BEGIN:VCALENDAR
PRODID:NingEventWidget-v1
VERSION:2.0
METHOD:PUBLISH
BEGIN:VEVENT
UID:1791588:Event:186251
DTSTAMP:20260420T221617Z
SUMMARY:ADVANCED/INTERVENTIONAL MSK ULTRASOUND WITH REGENERATIVE MEDIC
 INE
DESCRIPTION:Advanced/Interventional MSK Ultrasound with Regenerative M
 edicine Live Training Course is designed to expand and update the part
 icipants' skills to integrate advanced MSK applications and ultrasound
 -guided regenerative medicine techniques into clinical practice. These
  courses are taught by leading musculoskeletal ultrasound experts that
  incorporates comprehensive evidence-based lectures and interactive ca
 se presentations featuring a 3:1 faculty to participant hands-on scan 
 ratio with live models and human cadaveric specimens. Participants wil
 l also have the opportunity to observe live demonstrations of multiple
  regenerative medicine procedures (diagnosis and techniques) on variou
 s live patients with pathologies. These courses are specifically desig
 ned for physicians, sonographers and other medical professionals who n
 eed advanced/interventional musculoskeletal ultrasound training with a
  focus on regenerative medicine. GCUS offers (2) Two Day advanced/inte
 rventional MSK ultrasound with regenerative medicine courses at our fa
 cility in St. Petersburg, FL. These courses are held at multiple dates
  throughout the year, making them the perfect courses for both local p
 articipants and participants traveling to Florida. GCUS offers advance
 d/interventional MSK ultrasound with regenerative medicine courses as 
 a stand alone (2) Two Day course, or as part of a week long musculoske
 letal ultrasound training and CME program. In the week long program, p
 articipants will learn ultrasound techniques for the entire musculoske
 letal ultrasound specialty.\n\nFor more information visit https://comm
 unity.radrounds.com/events/advanced-interventional-msk-ultrasound-with
 -regenerative-medici-3
DTSTART:20190815T113000Z
DTEND:20190816T203000Z
CATEGORIES:live, cme, seminar
LOCATION:Gulfcoast Ultrasound Institute
WEBSITE:https://www.gcus.com/
URL:https://www.gcus.com/
CONTACT:727-363-4500
ORGANIZER:Gulfcoast Ultrasound Institute, Inc
ATTACH;FMTTYPE="image/jpeg":https://storage.ning.com/topology/rest/1.0
 /file/get/543955989?profile=original
ATTENDEE;ROLE=REQ-PARTICIPANT;PARTSTAT=ACCEPTED;RSVP=TRUE;CN="Casey Gr
 een":https://community.radrounds.com/profile/JamesSalame
END:VEVENT
END:VCALENDAR
