BEGIN:VCALENDAR
PRODID:NingEventWidget-v1
VERSION:2.0
METHOD:PUBLISH
BEGIN:VEVENT
UID:1791588:Event:178131
DTSTAMP:20260425T074311Z
SUMMARY:Advanced/Interventional MSK Ultrasound with Regenerative Medic
 ine Track
DESCRIPTION:This intermediate to advanced level MSK ultrasound program
  is designed to expand and update skills to integrate advanced MSK app
 lications and ultrasound-guided regenerative medicine techniques into 
 clinical practice. Taught by world-renowned ultrasound experts, the pr
 ogram offers evidence based lectures combined with extensive hands-on 
 scanning sessions featuring live models and human cadaveric specimens.
  Participants will also have the opportunity to observe live demonstra
 tions of multiple regenerative medicine procedures (diagnosis and tech
 niques) on various live patients with pathologies.\nTopics\n\nBiology 
 and Evidence for regenerative substances\n-Dextrose Prolotherapy\n-Pla
 telet Rich Plasma (PRP)\n-Bone Marrow Aspirate (BMA)\n-Lipoaspirate\n-
 Amniotic Membrane and Cells\nEssentials of US Guided Regenerative Medi
 cine\n-Ultrasound guided injection techniques\n-Preparing Dextrose and
  PRP Injectables\n-Upper and lower extremity regenerative medicine tec
 hniques\n-Post procedure protocols for regenerative medicine\n-Regulat
 ory guidelines and billing/coding for regenerative medicine\nHands-On 
 workshops: live models\nHands-On workshops: Cadaver lab – needle gui
 dance to target areas\nHands-On workshop: Cadaver lab – bone marrow 
 and lipoaspirate techniques\nLive patient regenerative medicine demons
 trations: Prolotherapy & PRPUtility of Dynamic Ultrasound\nUltrasound 
 Evaluation of the Spine\nAdvanced Peripheral Nerve Applications: Diagn
 osis & treatment options\nPost-Op Shoulder, Knee, and Beyond\nUnlockin
 g Frozen Joints\nHands-On scanning: live models\n\n \nObjectives\n\nI
 dentify anatomy and pathoanatomy of the upper extremity joints (tendon
 s, ligaments, muscle/fascia, and nerves).\nOutline the biology and evi
 dence for use of regenerative substances.\nState when, why, and how to
  integrate regenerative medicine as a practical treatment option.\nPre
 pare various injectables for performing ultrasound-guided regenerative
  medicine techniques.\nList regenerative medicine targets for the uppe
 r and lower extremities.\nOutline post procedural protocols for regene
 rative procedures\nIntegrate advanced MSK and ultrasound-guided regene
 rative medicine techniques into clinical practice.\n\n\nFor more infor
 mation visit https://community.radrounds.com/events/advanced-intervent
 ional-msk-ultrasound-with-regenerative-medici-1
DTSTART:20180816T113000Z
DTEND:20180817T210000Z
CATEGORIES:live, cme, seminar
LOCATION:Gulfcoast Ultrasound Institute
WEBSITE:https://www.gcus.com/
URL:https://www.gcus.com/
CONTACT:7273634500
ORGANIZER:Gulfcoast Ultrasound Institute, Inc
ATTACH;FMTTYPE="image/jpeg":http://storage.ning.com/topology/rest/1.0/
 file/get/1044773979?profile=original
ATTENDEE;ROLE=REQ-PARTICIPANT;PARTSTAT=ACCEPTED;RSVP=TRUE;CN="Casey Gr
 een":https://community.radrounds.com/profile/JamesSalame
END:VEVENT
END:VCALENDAR
