BEGIN:VCALENDAR
PRODID:NingEventWidget-v1
VERSION:2.0
METHOD:PUBLISH
BEGIN:VEVENT
UID:1791588:Event:170214
DTSTAMP:20260422T034654Z
SUMMARY:Advanced & Interventional MSK Ultrasound
DESCRIPTION:The hands-on Advanced and Interventional Musculoskeletal U
 ltrasound training course is taught by the leading MSK experts. This u
 ltrasound program provides lectures and extensive hands-on scanning wi
 th live models and human cadaveric specimens for advanced applications
  and ultrasound-guided procedures including (but not limited to) regen
 erative therapy.\nObjectives\n\nIncrease the participant's knowledge t
 o better perform and / or interpret MSK ultrasound exams.\nList the us
 e of MSK sonography for diagnosis and ultrasound - guided intervention
 s for rheumatology, sports medicine, and physical medicine & rehabilit
 ation applications\nDemonstrate techniques and protocols for performin
 g shoulder, elbow, wrist/hand, ankle/foot, adult hip, and spine.\nIden
 tify sonographic appearance of commonly seen pathology of the shoulder
 , elbow, wrist, hand, ankle, foot, adult hip, and spine.\nInterpret co
 mplex musculoskeletal ultrasound images and list treatment options and
  patient management strategies.\nOutline new ultrasound guided procedu
 res for ligament and tendon injuries.\nList the role of ultrasound in 
 the evaluation of the post-operative shoulder.\nState the role of ultr
 asound in nerve entrapment syndromes.\nDemonstrate the principals of i
 njection techniques for the performance of upper and lower extremity M
 SK interventions on cadaver models.\nIncrease confidence to incorporat
 e protocols, scan techniques, and interpretation criteria to improve d
 iagnostic/treatment accuracy.\n\n \n\nTopics\n\nMSK Ultrasound Guided
  Injection Techniques\nAdvanced Musculoskeletal Ultrasound - Guided Pr
 ocedures in Rehabilitative Medicine\nPost-operative Ultrasound: Should
 er, Knee & Beyond\nIndications for US Guided Nerve Blocks\nChallenging
  MSK Dilemmas: A Case Based Approach\nAdvanced Peripheral Nerve Applic
 ations: Diagnosis & Treatment Options\nAdvanced Foot, Ankle & Hip\nUlt
 rasound Evaluation of the Spine\nInteresting Case Presentations\n\n\n\
 nFor more information visit https://community.radrounds.com/events/adv
 anced-interventional-msk-ultrasound-3
DTSTART:20170810T110000Z
DTEND:20170811T210000Z
CATEGORIES:cme, conference
LOCATION:Gulfcoast Ultrasound Institute
WEBSITE:https://www.gcus.com/courses/about.asp?course=1059/Advanced-an
 d-Interventional-MSK-Ultrasound
URL:https://www.gcus.com/courses/about.asp?course=1059/Advanced-and-In
 terventional-MSK-Ultrasound
CONTACT:17273634500
ORGANIZER:GCUS
ATTACH;FMTTYPE="image/jpeg":http://storage.ning.com/topology/rest/1.0/
 file/get/1044771855?profile=original
ATTENDEE;ROLE=REQ-PARTICIPANT;PARTSTAT=ACCEPTED;RSVP=TRUE;CN="Casey Gr
 een":https://community.radrounds.com/profile/JamesSalame
END:VEVENT
END:VCALENDAR
