BEGIN:VCALENDAR
PRODID:NingEventWidget-v1
VERSION:2.0
METHOD:PUBLISH
BEGIN:VEVENT
UID:1791588:Event:169953
DTSTAMP:20260421T074450Z
SUMMARY:Advanced & Interventional MSK Ultrasound
DESCRIPTION:Objectives\n\nIncrease the participant's knowledge to bett
 er perform and / or interpret MSK ultrasound exams.\nList the use of M
 SK sonography for diagnosis and ultrasound - guided interventions for 
 rheumatology, sports medicine, and physical medicine & rehabilitation 
 applications\nDemonstrate techniques and protocols for performing shou
 lder, elbow, wrist/hand, ankle/foot, adult hip, and spine.\nIdentify s
 onographic appearance of commonly seen pathology of the shoulder, elbo
 w, wrist, hand, ankle, foot, adult hip, and spine.\nInterpret complex 
 musculoskeletal ultrasound images and list treatment options and patie
 nt management strategies.\nOutline new ultrasound guided procedures fo
 r ligament and tendon injuries.\nList the role of ultrasound in the ev
 aluation of the post-operative shoulder.\nState the role of ultrasound
  in nerve entrapment syndromes.\nDemonstrate the principals of injecti
 on techniques for the performance of upper and lower extremity MSK int
 erventions on cadaver models.\nIncrease confidence to incorporate prot
 ocols, scan techniques, and interpretation criteria to improve diagnos
 tic/treatment accuracy.\n\n\n\nTopics\n\nMSK Ultrasound Guided Injecti
 on Techniques\nAdvanced Musculoskeletal Ultrasound - Guided Procedures
  in Rehabilitative Medicine\nPost-operative Ultrasound: Shoulder, Knee
  & Beyond\nIndications for US Guided Nerve Blocks\nChallenging MSK Dil
 emmas: A Case Based Approach\nAdvanced Peripheral Nerve Applications: 
 Diagnosis & Treatment Options\nAdvanced Foot, Ankle & Hip\nUltrasound 
 Evaluation of the Spine\nInteresting Case Presentations\n\n\nFor more 
 information visit https://community.radrounds.com/events/advanced-inte
 rventional-msk-ultrasound-2
DTSTART:20161212T230000Z
DTEND:20161213T000000Z
CATEGORIES:cme, conference
LOCATION:Gulfcoast Ultrasound Institute
WEBSITE:https://www.gcus.com/courses/about.asp?course=1030/Advanced-an
 d-Interventional-MSK-Ultrasound
URL:https://www.gcus.com/courses/about.asp?course=1030/Advanced-and-In
 terventional-MSK-Ultrasound
CONTACT:17273634500
ORGANIZER:GCUS
ATTACH;FMTTYPE="image/jpeg":http://storage.ning.com/topology/rest/1.0/
 file/get/1044769662?profile=original
ATTENDEE;ROLE=REQ-PARTICIPANT;PARTSTAT=ACCEPTED;RSVP=TRUE;CN="Casey Gr
 een":https://community.radrounds.com/profile/JamesSalame
END:VEVENT
END:VCALENDAR
