BEGIN:VCALENDAR
PRODID:NingEventWidget-v1
VERSION:2.0
METHOD:PUBLISH
BEGIN:VEVENT
UID:1791588:Event:164730
DTSTAMP:20260421T064850Z
SUMMARY:Advanced & Interventional MSK Ultrasound
DESCRIPTION:The hands-on Advanced and Interventional Musculoskeletal (
 MSK) Ultrasound training course is taught by leading experts. This ult
 rasound program provides lectures and extensive hands-on scanning with
  live models and human cadaveric specimens for advanced applications a
 nd ultrasound-guided procedures including (but not limited to) regener
 ative therapy.\n\nFor more information visit https://community.radroun
 ds.com/events/advanced-interventional-msk-ultrasound-1
DTSTART:20160818T040000Z
DTEND:20160820T035900Z
CATEGORIES:ultrasound, cme, seminar
LOCATION:Gulfcoast Ultrasound Institute, Inc.
WEBSITE:https://www.gcus.com/courses/about.asp?course=968/Advanced-and
 -Interventional-MSK-Ultrasound
URL:https://www.gcus.com/courses/about.asp?course=968/Advanced-and-Int
 erventional-MSK-Ultrasound
CONTACT:800-619-1900
ORGANIZER;CN="Casey Green":https://community.radrounds.com/profile/Jam
 esSalame
ATTACH;FMTTYPE="image/jpeg":
ATTENDEE;ROLE=REQ-PARTICIPANT;PARTSTAT=ACCEPTED;RSVP=TRUE;CN=dr-rumin:
 https://community.radrounds.com/profile/rumin
ATTENDEE;ROLE=REQ-PARTICIPANT;PARTSTAT=ACCEPTED;RSVP=TRUE;CN="Casey Gr
 een":https://community.radrounds.com/profile/JamesSalame
END:VEVENT
END:VCALENDAR
