BEGIN:VCALENDAR
PRODID:NingEventWidget-v1
VERSION:2.0
METHOD:PUBLISH
BEGIN:VEVENT
UID:1791588:Event:160683
DTSTAMP:20260420T221759Z
SUMMARY:Advanced Emergency Medicine Ultrasound & Critical Care Ultraso
 und
DESCRIPTION:Gulfcoast Ultrasoundâ€™s hands-on advanced emergency medic
 ine and critical care ultrasound course is designed to build on the kn
 owledge base of experienced emergency ultrasound professionals.Â Â Thi
 s program is presented by leading emergency ultrasound experts. The cu
 rriculum is developed in accordance with the WINFOCUSÂ  and ACEP Ultra
 sound Practice Guidelines for advanced emergency ultrasound applicatio
 ns.Â Â The comprehensive bedside ultrasound training seminar incorpora
 tes lectures, interactive case presentations using an audience respons
 e system, and extensive 3:1 ratio hands-on scanning sessions featuring
  live models and inanimate phantoms.Â Â  This emergency ultrasound and
  critical care program also provides a log of 35+ supervised examinati
 ons to apply towards credentialing and/or certification requirements.Â
  \n\nFor more information visit https://community.radrounds.com/events
 /advanced-emergency-medicine-ultrasound-critical-care-ultrasound
DTSTART:20150917T040000Z
DTEND:20150919T035900Z
CATEGORIES:ultrasound, cme, seminar
LOCATION:Gulfcoast Ultrasound Institute, Inc.
WEBSITE:https://www.gcus.com/courses/about.asp?course=861/Advanced-Eme
 rgency-Medicine-Ultrasound-and-Critical-Care-Ultrasound
URL:https://www.gcus.com/courses/about.asp?course=861/Advanced-Emergen
 cy-Medicine-Ultrasound-and-Critical-Care-Ultrasound
CONTACT:800.619.1900
ORGANIZER;CN="Casey Green":https://community.radrounds.com/profile/Jam
 esSalame
ATTACH;FMTTYPE="image/jpeg":
ATTENDEE;ROLE=REQ-PARTICIPANT;PARTSTAT=ACCEPTED;RSVP=TRUE;CN="Casey Gr
 een":https://community.radrounds.com/profile/JamesSalame
END:VEVENT
END:VCALENDAR
