BEGIN:VCALENDAR
PRODID:NingEventWidget-v1
VERSION:2.0
METHOD:PUBLISH
BEGIN:VEVENT
UID:1791588:Event:164921
DTSTAMP:20260420T053459Z
SUMMARY:Advanced Emergency Medicine Ultrasound & Critical Care Ultraso
 und
DESCRIPTION:Gulfcoast Ultrasound’s Advanced Emergency Medicine and C
 ritical Care Ultrasound course is designed to build on the knowledge b
 ase of experienced emergency ultrasound professionals. This ultrasound
  training course incorporates comprehensive lectures, interactive case
  presentations, and extensive hands-on scanning, featuring a 3:1 ratio
  with live models and inanimate phantoms.\n\nFor more information visi
 t https://community.radrounds.com/events/advanced-emergency-medicine-u
 ltrasound-critical-care-ultrasound-2
DTSTART:20160915T040000Z
DTEND:20160917T035900Z
CATEGORIES:ultrasound, cme, seminar
LOCATION:Gulfcoast Ultrasound Institute, Inc.
WEBSITE:https://www.gcus.com/courses/about.asp?course=949/Advanced-Eme
 rgency-Medicine-and-Critical-Care-Ultrasound
URL:https://www.gcus.com/courses/about.asp?course=949/Advanced-Emergen
 cy-Medicine-and-Critical-Care-Ultrasound
CONTACT:800-619-1900
ORGANIZER;CN="Casey Green":https://community.radrounds.com/profile/Jam
 esSalame
ATTACH;FMTTYPE="image/jpeg":
ATTENDEE;ROLE=REQ-PARTICIPANT;PARTSTAT=ACCEPTED;RSVP=TRUE;CN="Casey Gr
 een":https://community.radrounds.com/profile/JamesSalame
END:VEVENT
END:VCALENDAR
