BEGIN:VCALENDAR
PRODID:NingEventWidget-v1
VERSION:2.0
METHOD:PUBLISH
BEGIN:VEVENT
UID:1791588:Event:167805
DTSTAMP:20260421T001038Z
SUMMARY:Advanced Emergency Medicine/ Point of Care Ultrasound
DESCRIPTION:Course Topics\n\nFundamentals of ultrasound physics and kn
 obology\nDVT’s - venous orientation & pathology\nUltrasound guided v
 enous access techniques\nCardiac evaluation for ventricular enlargemen
 t, pericardial effusion and tamponade\nEvaluation for pulmonary pressu
 re\nPearls and pitfalls\nHands-on scanning\n\n\nFor more information v
 isit https://community.radrounds.com/events/advanced-emergency-medicin
 e-point-of-care-ultrasound-9
DTSTART:20160629T120000Z
DTEND:20160629T201500Z
CATEGORIES:live, event
LOCATION:Houston
WEBSITE:https://store.aheconline.com/index.php?route=product/product&p
 ath=59&product_id=2214
URL:https://store.aheconline.com/index.php?route=product/product&path=
 59&product_id=2214
CONTACT:1-800-239-1361
ORGANIZER;CN="Larry Carney":https://community.radrounds.com/profile/La
 rryCarney
ATTACH;FMTTYPE="image/jpeg":
ATTENDEE;ROLE=REQ-PARTICIPANT;PARTSTAT=ACCEPTED;RSVP=TRUE;CN="Larry Ca
 rney":https://community.radrounds.com/profile/LarryCarney
END:VEVENT
END:VCALENDAR
