BEGIN:VCALENDAR
PRODID:NingEventWidget-v1
VERSION:2.0
METHOD:PUBLISH
BEGIN:VEVENT
UID:1791588:Event:172444
DTSTAMP:20260421T163450Z
SUMMARY:Advanced Emergency Medicine/Next Level Point of Care Ultrasoun
 d (Live Event)
DESCRIPTION:Diagnostic ultrasound has now evolved to become the most c
 ost effective and efficient procedure in the arsenal of diagnostic ima
 ging procedures. With the rising costs of health care, it is a matter 
 of necessity to utilize cost effective, rapid and accurate ways to dia
 gnose and treat patients at the “point of care”. The Agency for He
 althcare Research and Quality has highlighted ultrasound-guided interv
 entions as key implementation of 21st century patient care.  This co
 urse will address “Next Level” applications of emergency medicine 
 ultrasound and will benefit those practitioners with prior experience 
 in ultrasound.\nThe power and size of the new portable ultrasound equi
 pment has expanded the application of bedside ultrasound from advanced
  cardiac evaluation and pulmonary applications to ultrasound guided tr
 eatments and interventions. Emphasis will be placed on acquisition of 
 the knowledge and scanning skills needed for vascular access technique
 s.  Ultrasound guidance or localization for abscesses, effusions, and
  foreign bodies, and integration of point-of-care echocardiography in
 to symptom based evaluation of the patient.  The course content is ba
 sed on ACEP Emergency Ultrasound Imaging Criteria for the performance 
 of Emergency Medicine Ultrasound-Guided Procedures.\n\nFor more inform
 ation visit https://community.radrounds.com/events/advanced-emergency-
 medicine-next-level-point-of-care-ultrasound-1
DTSTART:20170729T120000Z
DTEND:20170729T210000Z
CATEGORIES:live, event
LOCATION:Advanced Health Education Center
WEBSITE:https://store.aheconline.com/index.php?route=product/product&p
 ath=59&product_id=2783
URL:https://store.aheconline.com/index.php?route=product/product&path=
 59&product_id=2783
CONTACT:800-239-1361
ORGANIZER;CN="Larry Carney":https://community.radrounds.com/profile/La
 rryCarney
ATTACH;FMTTYPE="image/jpeg":
ATTENDEE;ROLE=REQ-PARTICIPANT;PARTSTAT=ACCEPTED;RSVP=TRUE;CN="Larry Ca
 rney":https://community.radrounds.com/profile/LarryCarney
END:VEVENT
END:VCALENDAR
