BEGIN:VCALENDAR
PRODID:NingEventWidget-v1
VERSION:2.0
METHOD:PUBLISH
BEGIN:VEVENT
UID:1791588:Event:178137
DTSTAMP:20260422T104547Z
SUMMARY:Advanced Emergency Medicine and Critical Care Ultrasound
DESCRIPTION:Gulfcoast Ultrasound Institute’s Advanced Emergency Medi
 cine and Critical Care Ultrasound course is designed to build on the k
 nowledge base of experienced emergency ultrasound professionals. This 
 emergency/critical-care ultrasound hands-on course/program incorporate
 s comprehensive lectures, interactive case presentations, and extensiv
 e hands-on scanning, featuring a 3:1 ratio with live models and inanim
 ate phantoms. This course includes a pre-course webinar entitled Focus
 ed Cardiac Ultrasound.\nTopics\n\nSonography in Shock & Source of Seps
 is (Gallbladder, Biliary Tree, Appendix, Bowel Obstruction, Peritoniti
 s & Abscess, Pylonephritis)\nFluid Responsiveness in the Critically Il
 l\nAdvanced Non-Cardiac Chest (Sinuses, Larynx, Trachea, Lung & Pleura
 )\nUltrasound Guided Peripheral Vascular Access\nInteractive Case Stud
 ies\nCritical Care Track:\n1. Cardiac Doppler & Focused Calculations\n
 2. Echo Assessment of Cardiomyopathies & Heart Failure\n3. Mitral Insu
 fficiency & Complications\n4. Guidelines for Appropriate Use of Ultras
 onography by the Intensivist\nEmergency Track:\n1. Sonography of the A
 cute Scrotum\n2. Advanced EM Applications (Evaluation of Soft Tissue f
 or Abscess, Foreign Body Detection, MSK Applications, Evaluation of Bo
 ny Cortices, Ocular Emergencies)\n3. Nerve Blocks in the ED (Forearm, 
 Femoral, and Ankle Blocks)\n\n \nObjectives\n\nIncrease the participa
 nt’s knowledge to better perform and/or interpret Emergency and Crit
 ical Care ultrasound examinations.\nIdentify Sonographic Characteristi
 cs Associated With Abdominal Sepsis Involving The Hepatobiliary, Renal
 , And GI Systems.\nOutline indications and applications of color Doppl
 er in the emergency and critical care setting.\nPerform ultrasound eva
 luation of the lung, ocular, soft-tissue, musculoskeletal, and bony co
 rtices in the emergency department. (Optional EM track)\nDemonstrate t
 he use of ultrasound guidance for peripheral vascular access.\nState p
 rinciples of spectral and cardiac Doppler fundamentals and apply quant
 itative methods to evaluate acute valvular abnormalities (Optional cri
 tical care track).\nRecognize the sonographic appearance of individual
  nerves and list the advantages provided when ultrasound is used for p
 erforming regional nerve blocks. (Optional EM track)\nEvaluate fluid r
 esponsiveness in the critically ill patient.\nPerform testicular ultra
 sound and recognize acute abnormalities. (Optional EM track)\nIncrease
  competence to incorporate protocols, scan techniques & interpretation
  criteria to improve diagnostic/treatment accuracy.\n\n\n\nFor more in
 formation visit https://community.radrounds.com/events/advanced-emerge
 ncy-medicine-and-critical-care-ultrasound
DTSTART:20180913T113000Z
DTEND:20180914T210000Z
CATEGORIES:live, cme, seminar
LOCATION:Gulfcoast Ultrasound Institute
WEBSITE:https://www.gcus.com/
URL:https://www.gcus.com/
CONTACT:7273634500
ORGANIZER:Gulfcoast Ultrasound Institute, Inc
ATTACH;FMTTYPE="image/jpeg":http://storage.ning.com/topology/rest/1.0/
 file/get/1044774066?profile=original
ATTENDEE;ROLE=REQ-PARTICIPANT;PARTSTAT=ACCEPTED;RSVP=TRUE;CN="Casey Gr
 een":https://community.radrounds.com/profile/JamesSalame
END:VEVENT
END:VCALENDAR
