BEGIN:VCALENDAR
PRODID:NingEventWidget-v1
VERSION:2.0
METHOD:PUBLISH
BEGIN:VEVENT
UID:1791588:Event:177030
DTSTAMP:20260421T124605Z
SUMMARY:Advanced Emergency Medicine and Critical Care Ultrasound
DESCRIPTION:Gulfcoast Ultrasound Institute’s Advanced Emergency Medi
 cine and Critical Care Ultrasound course is designed to build on the k
 nowledge base of experienced emergency ultrasound professionals. This 
 emergency/critical-care ultrasound hands-on course/program incorporate
 s comprehensive lectures, interactive case presentations, and extensiv
 e hands-on scanning, featuring a 3:1 ratio with live models and inanim
 ate phantoms. This course includes a pre-course webinar entitled Focus
 ed Cardiac Ultrasound.\n\nFor more information visit https://community
 .radrounds.com/events/advanced-emergency-medicine-amp-critical-care-ul
 trasound
DTSTART:20180201T123000Z
DTEND:20180202T220000Z
CATEGORIES:live, seminar
LOCATION:Gulfcoast Ultrasound Institute
WEBSITE:https://gcus.com/courses/about/3524/advanced-emergency-medicin
 e-critical-care-ultrasound
URL:https://gcus.com/courses/about/3524/advanced-emergency-medicine-cr
 itical-care-ultrasound
CONTACT:7273634500
ORGANIZER:Gulfcoast Ultrasound Institute, Inc
ATTACH;FMTTYPE="image/jpeg":http://storage.ning.com/topology/rest/1.0/
 file/get/1044773600?profile=original
ATTENDEE;ROLE=REQ-PARTICIPANT;PARTSTAT=ACCEPTED;RSVP=TRUE;CN="Casey Gr
 een":https://community.radrounds.com/profile/JamesSalame
END:VEVENT
END:VCALENDAR
