BEGIN:VCALENDAR
PRODID:NingEventWidget-v1
VERSION:2.0
METHOD:PUBLISH
BEGIN:VEVENT
UID:1791588:Event:186254
DTSTAMP:20260424T075816Z
SUMMARY:ADVANCED EMERGENCY MEDICINE &amp; CRITICAL CARE ULTRASOUND
DESCRIPTION:Advanced Emergency Medicine and Critical Care Ultrasound :
 ive Training Course is designed to build on the knowledge base of expe
 rienced emergency medicine and critical care ultrasound professionals 
 using advanced ACEP/WINFOCUS ultrasound topics. These courses are taug
 ht by leading emergency medicine & critical care ultrasound experts th
 at incorporates comprehensive lectures and interactive case presentati
 ons featuring a 3:1 faculty to participant hands-on scan ratio with li
 ve models and phantoms. This course is specifically designed for physi
 cians, sonographers and other medical professionals who need advanced 
 emergency medicine & critical care ultrasound training. GCUS offers (2
 ) Two Day advanced emergency medicine & critical care ultrasound cours
 es at our facility in St. Petersburg, FL. The course is held at multip
 le dates throughout the year, making it the perfect course for both lo
 cal participants and participants traveling to Florida. GCUS offers ad
 vanced emergency medicine & critical care ultrasound training as a sta
 nd alone (2) Two Day course, or as part of a (4) Four Day and (5) Five
  Day long emergency medicine & critical care ultrasound training and C
 ME program. In the (4) Four and (5) Five Day programs, participants wi
 ll learn ultrasound tips, tricks, and techniques for the entire emerge
 ncy medicine & critical care specialty.\n\nFor more information visit 
 https://community.radrounds.com/events/advanced-emergency-medicine-amp
 -critical-care-ultrasound-3
DTSTART:20190919T113000Z
DTEND:20190920T210000Z
CATEGORIES:live, cme, seminar
LOCATION:Gulfcoast Ultrasound Institute
WEBSITE:https://www.gcus.com/
URL:https://www.gcus.com/
CONTACT:727-363-4500
ORGANIZER:Gulfcoast Ultrasound Institute, Inc
ATTACH;FMTTYPE="image/jpeg":https://storage.ning.com/topology/rest/1.0
 /file/get/544009567?profile=original
ATTENDEE;ROLE=REQ-PARTICIPANT;PARTSTAT=ACCEPTED;RSVP=TRUE;CN="Casey Gr
 een":https://community.radrounds.com/profile/JamesSalame
END:VEVENT
END:VCALENDAR
