BEGIN:VCALENDAR
PRODID:NingEventWidget-v1
VERSION:2.0
METHOD:PUBLISH
BEGIN:VEVENT
UID:1791588:Event:185523
DTSTAMP:20260421T062759Z
SUMMARY:ADVANCED EMERGENCY MEDICINE AND CRITICAL CARE ULTRASOUND
DESCRIPTION:Advanced Emergency Medicine and Critical Care Ultrasound L
 ive Training Course is designed to build on the knowledge base of expe
 rienced emergency medicine and critical care ultrasound professionals 
 using advanced ACEP/WINFOCUS ultrasound topics. These courses are taug
 ht by leading emergency medicine & critical care ultrasound experts th
 at incorporates comprehensive lectures and interactive case presentati
 ons featuring a 3:1 faculty to participant hands-on scan ratio with li
 ve models and phantoms. This course is specifically designed for physi
 cians, sonographers and other medical professionals who need advanced 
 emergency medicine & critical care ultrasound training. GCUS offers Ad
 vanced Emergency Medicine & Critical Care Ultrasound training as a sta
 nd alone two (2) day course, or as part of a week long emergency medic
 ine & critical care ultrasound training and CME.\n\nFor more informati
 on visit https://community.radrounds.com/events/advanced-emergency-med
 icine-amp-critical-care-ultrasound-1
DTSTART:20190124T123000Z
DTEND:20190125T220000Z
CATEGORIES:live, cme, seminar
LOCATION:Gulfcoast Ultrasound Institute
WEBSITE:https://www.gcus.com/
URL:https://www.gcus.com/
CONTACT:727-363-4500
ORGANIZER:Gulfcoast Ultrasound Institute, Inc
ATTACH;FMTTYPE="image/jpeg":https://storage.ning.com/topology/rest/1.0
 /file/get/308226648?profile=original
ATTENDEE;ROLE=REQ-PARTICIPANT;PARTSTAT=ACCEPTED;RSVP=TRUE;CN="Casey Gr
 een":https://community.radrounds.com/profile/JamesSalame
END:VEVENT
END:VCALENDAR
