BEGIN:VCALENDAR
PRODID:NingEventWidget-v1
VERSION:2.0
METHOD:PUBLISH
BEGIN:VEVENT
UID:1791588:Event:172225
DTSTAMP:20260420T044507Z
SUMMARY:Advanced Breast Tomosynthesis Workshop
DESCRIPTION:Register online at:\nhttp://www.worldclasscme.com/conferen
 ces/advanced-breast-tomosynthesis-workshop4/\nIntroducing a brand new 
 Breast Tomosynthesis workshop intended for those who have enjoyed some
  prior training in tomosynthesis. Whether you have just been trained o
 n the Friday, or two years prior, join us for this brand new course. E
 xpert faculty guides you through...\nDiagnostic Algorithms Using Tomo\
 n\nEvaluation after a non-tomo screen\nEvaluation after a tomo screen\
 nUse of additional mammographic images including tomo spots\nIncorpora
 tion of prior imaging for decision-making\nEvaluation of the altered b
 reast\nPost-surgical changes\nPost-breast conservation\nImplants\n\nIn
 ter-modality Correlation With Tomo\n\nUse of ultrasound\nUse of MRI\nI
 ntervention for tomo findings\n\nAppearances of Cancer on Tomosynthesi
 s with Path Correlation\n\nMultiple case examples showing mani-festati
 ons of cancer on tomosynthesis\nUsing the appearances of cancer on tom
 osynthesis to hone and diagnostic skills\n\nAuditing Your Practice Pos
 t-tomosynthesis Implementation\n\nDeveloping appropriate benchmarks\nR
 ecall rate\nCancer detection\nPPV\n\nPricing  Physician: $395.00  Ret
 ired: $395.00  Military: $395.00\n\n6.0 AMA PRA Category 1 Credits™
 \n\nFor more information visit https://community.radrounds.com/events/
 advanced-breast-tomosynthesis-workshop
DTSTART:20170402T040000Z
DTEND:20170403T035900Z
CATEGORIES:breast, imaging, cme, radiology, mammography, tomosynthesis
 , hologic, 3d, diagnostic, "women's", conference, live, event
LOCATION:Westin New York at Times Square
WEBSITE:http://www.westinny.com/
URL:http://www.westinny.com/
CONTACT:888-627-7149
ORGANIZER:World Class CME
ATTACH;FMTTYPE="image/jpeg":http://storage.ning.com/topology/rest/1.0/
 file/get/1044768785?profile=original
ATTENDEE;ROLE=REQ-PARTICIPANT;PARTSTAT=ACCEPTED;RSVP=TRUE;CN="JoAnn Co
 oke":https://community.radrounds.com/profile/JoAnnCooke
END:VEVENT
END:VCALENDAR
