BEGIN:VCALENDAR
PRODID:NingEventWidget-v1
VERSION:2.0
METHOD:PUBLISH
BEGIN:VEVENT
UID:1791588:Event:196494
DTSTAMP:20260419T075316Z
SUMMARY:Advanced and Interventional Musculoskeletal Ultrasound
DESCRIPTION:Advanced & Interventional Musculoskeletal Ultrasound Live 
 Training Course is taught by leading experts in the field of MSK ultra
 sound that incorporates comprehensive lectures and interactive case pr
 esentations. This course features extensive hands-on scanning with a 3
 :1 participant to faculty hands-on scanning with live models, inanimat
 e phantoms, and human cadaveric specimens for advanced applications an
 d ultrasound-guided procedures. Learn the advanced and interventional 
 musculoskeletal essentials and increase confidence to integrate the sk
 ills into clinical practice and expand MSK ultrasound services to offe
 r your patients.\n\nFor more information visit https://community.radro
 unds.com/events/advanced-and-interventional-musculoskeletal-ultrasound
 -2
DTSTART:20200827T040000Z
DTEND:20200829T035900Z
CATEGORIES:tendinopathy, and, ultrasound-guided, tenotomy, other, "int
 erventions:", carpal, tunnel, release, a1, pulley, hydrodissections, "
 &amp", more
LOCATION:St. Petersburg
WEBSITE:https://www.gcus.com/ultrasound/live-course/advanced-intervent
 ional-musculoskeletal-ultrasound2
URL:https://www.gcus.com/ultrasound/live-course/advanced-interventiona
 l-musculoskeletal-ultrasound2
CONTACT:7273634500
ORGANIZER;CN="Casey Green":https://community.radrounds.com/profile/Jam
 esSalame
ATTACH;FMTTYPE="image/jpeg":
ATTENDEE;ROLE=REQ-PARTICIPANT;PARTSTAT=ACCEPTED;RSVP=TRUE;CN="Casey Gr
 een":https://community.radrounds.com/profile/JamesSalame
END:VEVENT
END:VCALENDAR
