BEGIN:VCALENDAR
PRODID:NingEventWidget-v1
VERSION:2.0
METHOD:PUBLISH
BEGIN:VEVENT
UID:1791588:Event:186536
DTSTAMP:20260421T014847Z
SUMMARY:ADVANCED AND INTERVENTIONAL MUSCULOSKELETAL ULTRASOUND
DESCRIPTION:Advanced & Interventional Musculoskeletal Ultrasound Live 
 Training Course is taught by leading experts in the field of MSK ultra
 sound that incorporates comprehensive lectures and interactive case pr
 esentations. This course features a 3:1 faculty to participant hands-o
 n scanning with live models and human cadaveric specimens for advanced
  applications and ultrasound-guided procedures including (but not limi
 ted to) regenerative therapy. Learn the advanced and interventional mu
 sculoskeletal essentials at our facility in St. Petersburg, FL and bui
 ld confidence in your advanced level MSK scanning and interpretation a
 bilities.\n\nFor more information visit https://community.radrounds.co
 m/events/advanced-and-interventional-musculoskeletal-ultrasound-1
DTSTART:20190815T113000Z
DTEND:20190816T203000Z
CATEGORIES:live, cme, seminar
LOCATION:Gulfcoast Ultrasound Institute
WEBSITE:https://www.gcus.com/
URL:https://www.gcus.com/
CONTACT:727-363-4500
ORGANIZER:Gulfcoast Ultrasound Institute, Inc
ATTACH;FMTTYPE="image/jpeg":https://storage.ning.com/topology/rest/1.0
 /file/get/543884651?profile=original
ATTENDEE;ROLE=REQ-PARTICIPANT;PARTSTAT=ACCEPTED;RSVP=TRUE;CN="Casey Gr
 een":https://community.radrounds.com/profile/JamesSalame
END:VEVENT
END:VCALENDAR
