BEGIN:VCALENDAR
PRODID:NingEventWidget-v1
VERSION:2.0
METHOD:PUBLISH
BEGIN:VEVENT
UID:1791588:Event:177914
DTSTAMP:20260425T104656Z
SUMMARY:Advanced and Interventional MSK Ultrasound (2-Day Live Event)
DESCRIPTION:The hands-on Advanced and Interventional Musculoskeletal U
 ltrasound training course is taught by the leading MSK experts. This m
 sk ultrasound hands-on course/program provides lectures and extensive 
 hands-on scanning with live models and human cadaveric specimens for a
 dvanced applications and ultrasound-guided procedures including (but n
 ot limited to) regenerative therapy.\nTopics\n\nMSK Ultrasound Guided 
 Injection Techniques\nAdvanced Musculoskeletal Ultrasound - Guided Pro
 cedures in Rehabilitative Medicine\nPost-operative Ultrasound: Shoulde
 r, Knee & Beyond\nIndications for US Guided Nerve Blocks\nChallenging 
 MSK Dilemmas: A Case Based Approach\nAdvanced Peripheral Nerve Applica
 tions: Diagnosis & Treatment Options\nAdvanced Foot, Ankle & Hip\nUltr
 asound Evaluation of the Spine\nInteresting Case Presentations\n\n\nOb
 jectives\n\nIncrease the participant's knowledge to better perform and
  / or interpret MSK ultrasound exams.\nList the use of MSK sonography 
 for diagnosis and ultrasound - guided interventions for rheumatology, 
 sports medicine, and physical medicine & rehabilitation applications\n
 Demonstrate techniques and protocols for performing shoulder, elbow, w
 rist/hand, ankle/foot, adult hip, and spine.\nIdentify sonographic app
 earance of commonly seen pathology of the shoulder, elbow, wrist, hand
 , ankle, foot, adult hip, and spine.\nInterpret complex musculoskeleta
 l ultrasound images and list treatment options and patient management 
 strategies.\nOutline new ultrasound guided procedures for ligament and
  tendon injuries.\nList the role of ultrasound in the evaluation of th
 e post-operative shoulder.\nState the role of ultrasound in nerve entr
 apment syndromes.\nDemonstrate the principals of injection techniques 
 for the performance of upper and lower extremity MSK interventions on 
 cadaver models.\nIncrease confidence to incorporate protocols, scan te
 chniques, and interpretation criteria to improve diagnostic/treatment 
 accuracy.\n\n\n\nFor more information visit https://community.radround
 s.com/events/advanced-and-interventional-msk-ultrasound-2-day-live-eve
 nt
DTSTART:20180816T113000Z
DTEND:20180817T083000Z
CATEGORIES:live, cme, seminar
LOCATION:Gulfcoast Ultrasound Institute
WEBSITE:https://www.gcus.com/
URL:https://www.gcus.com/
CONTACT:7273634500
ORGANIZER:Gulfcoast Ultrasound Institute, Inc
ATTACH;FMTTYPE="image/jpeg":http://storage.ning.com/topology/rest/1.0/
 file/get/1044772018?profile=original
ATTENDEE;ROLE=REQ-PARTICIPANT;PARTSTAT=ACCEPTED;RSVP=TRUE;CN="Casey Gr
 een":https://community.radrounds.com/profile/JamesSalame
END:VEVENT
END:VCALENDAR
