BEGIN:VCALENDAR
PRODID:NingEventWidget-v1
VERSION:2.0
METHOD:PUBLISH
BEGIN:VEVENT
UID:1791588:Event:177058
DTSTAMP:20260421T161233Z
SUMMARY:Advanced and Interventional MSK Ultrasound
DESCRIPTION:The hands-on Advanced and Interventional Musculoskeletal U
 ltrasound training course is taught by the leading MSK experts. This m
 sk ultrasound hands-on course/program provides lectures and extensive 
 hands-on scanning with live models and human cadaveric specimens for a
 dvanced applications and ultrasound-guided procedures including (but n
 ot limited to) regenerative therapy.\n\nFor more information visit htt
 ps://community.radrounds.com/events/advanced-amp-interventional-msk-ul
 trasound
DTSTART:20180222T123000Z
DTEND:20180223T213000Z
CATEGORIES:live, seminar
LOCATION:Gulfcoast Ultrasound Institute
WEBSITE:https://www.gcus.com/
URL:https://www.gcus.com/
CONTACT:7273634500
ORGANIZER:Gulfcoast Ultrasound Institute, Inc
ATTACH;FMTTYPE="image/jpeg":http://storage.ning.com/topology/rest/1.0/
 file/get/1044774512?profile=original
ATTENDEE;ROLE=REQ-PARTICIPANT;PARTSTAT=ACCEPTED;RSVP=TRUE;CN="Casey Gr
 een":https://community.radrounds.com/profile/JamesSalame
END:VEVENT
END:VCALENDAR
