BEGIN:VCALENDAR
PRODID:NingEventWidget-v1
VERSION:2.0
METHOD:PUBLISH
BEGIN:VEVENT
UID:1791588:Event:116544
DTSTAMP:20260422T160852Z
SUMMARY:Acute Medical & Surgical CT Interpretation
DESCRIPTION:Acute Medical & Surgical CT Interpretation Saturday, June 
 09, 2012 - Sunday, June 10, 2012Royal Brisbane and Women's Hospital Br
 isbane, AustraliaProvided by Lightbox Radiology Education  CME Provide
 r: Lightbox Radiology Education P.O. Box 1405Noosaville BC, 4566Austra
 lia\nPhone: +61468991174\n\nConference Center:Royal Brisbane and Women
 's Hospital Bowen Bridge RoadBrisbane, 4029Australia\nPhone: 36368111\
 nDescription:Our 'Acute Medical and Surgical CT Interpretation' course
  is the perfect introduction to computed tomography in the acute clini
 cal setting. Designed in a systematic learning format, the course cove
 rs acquisition, normal variations and patterns of disease in CT imagin
 g of the head, neck, chest, abdomen, pelvis and extremities. Between l
 ectures, 4 interactive multimedia small live group sessions will be co
 nducted. Our goal is to provide practitioners with the knowledge and c
 onfidence to interpret CT findings in the most commonly encountered ac
 ute clinical settings.\nSelf Assessment Module (SAM): No\nInstructors:
 Please see website www.lightboxradiology.com.au\nSpecialty Audience:Ra
 diology\n\nFor more information visit https://community.radrounds.com/
 events/acute-medical-surgical-ct-interpretation
DTSTART:20120609T040000Z
DTEND:20120611T035900Z
CATEGORIES:radiology
LOCATION:Royal Brisbane and Women's Hospital
WEBSITE:http://www.health.qld.gov.au/rbwh/
URL:http://www.health.qld.gov.au/rbwh/
CONTACT:Phone: 36368111
ORGANIZER:Lightbox Radiology Education
ATTACH;FMTTYPE="image/jpeg":
ATTENDEE;ROLE=REQ-PARTICIPANT;PARTSTAT=ACCEPTED;RSVP=TRUE;CN="radRound
 s Radiology Events":https://community.radrounds.com/profile/radRoundsR
 adiologyEvents
END:VEVENT
END:VCALENDAR
