BEGIN:VCALENDAR
PRODID:NingEventWidget-v1
VERSION:2.0
METHOD:PUBLISH
BEGIN:VEVENT
UID:1791588:Event:116227
DTSTAMP:20260423T100956Z
SUMMARY:ACR Annual Meeting and Leadership Conference
DESCRIPTION:ACR Annual Meeting and Leadership Conference Saturday, Apr
 il 21, 2012 - Wednesday, April 25, 2012Hilton Washington Hotel Washing
 ton, District of Columbia (DC), United StatesProvided by American Coll
 ege of Radiology (ACR)  CME Provider: American College of Radiology (A
 CR) 1891 Preston White DriveReston, Virginia (VA) 20191United States\n
 Toll Free: (800) 373-2204Phone: (703) 227-4777\n\nConference Center:Hi
 lton Washington Hotel 1919 Connecticut AvenueWashington, District of C
 olumbia (DC) 20009United States\nPhone: (202) 483-3000Fax: (202) 232-0
 438\n Description:Please visit the ACR website for more information.\n
 Self Assessment Module (SAM): No\nInstructors:Please visit the ACR web
 site for more information.\nSpecialty Audience:Radiology\n\nFor more i
 nformation visit https://community.radrounds.com/events/acr-annual-mee
 ting-and-leadership-conference
DTSTART:20120421T040000Z
DTEND:20120426T035900Z
CATEGORIES:radiology
LOCATION:Hilton Washington Hotel
WEBSITE:http://www1.hilton.com/en_US/hi/hotel/DCAWHHH-Washington-Hilto
 n-District-of-Columbia/index.do
URL:http://www1.hilton.com/en_US/hi/hotel/DCAWHHH-Washington-Hilton-Di
 strict-of-Columbia/index.do
CONTACT:(202) 483-3000
ORGANIZER:American College of Radiology (ACR)
ATTACH;FMTTYPE="image/jpeg":
ATTENDEE;ROLE=REQ-PARTICIPANT;PARTSTAT=ACCEPTED;RSVP=TRUE;CN="radRound
 s Radiology Events":https://community.radrounds.com/profile/radRoundsR
 adiologyEvents
END:VEVENT
END:VCALENDAR
