BEGIN:VCALENDAR
PRODID:NingEventWidget-v1
VERSION:2.0
METHOD:PUBLISH
BEGIN:VEVENT
UID:1791588:Event:170239
DTSTAMP:20260423T105553Z
SUMMARY:Abdominal Ultrasound Registry Review Course
DESCRIPTION:Successfully prepare for the Abdomen ultrasound certificat
 ion exam with the leaders in ultrasound continuing medical education. 
 The Abdominal Ultrasound Registry Review course provides a comprehensi
 ve review for successful certification exam completion. The abdomen re
 gistry review is taught by leading experts in the ultrasound professio
 n and includes interactive lectures, case studies, and mock registry e
 xams using an interactive Audience Response System.\n\nObjectives\n\nI
 ncrease the participants’ knowledge to better perform diagnostic ult
 rasound examinations.\nApply knowledge of the abdominal cross-sectiona
 l anatomy, scan protocols, laboratory values and routine measurements 
 associated with the abdominal ultrasound examination.\nRecognize norma
 l imaging characteristics of the liver, gallbladder, pancreas, spleen,
  kidneys, adrenals and abdominal vasculature\nIntegrate imaging charac
 teristics of commonly seen pathology associated with the liver, gallbl
 adder, pancreas, spleen, kidneys, retroperitoneum, and abdominal vascu
 lature.\nDifferentiate normal and abnormal sonographic characteristics
  associated with evaluation of superficial structures such as thyroid,
  testes & scrotum and some basic musculoskeletal structures.\nIntegrat
 e universal precautions & proper infection control into standardized i
 maging protocols & state the sonographer’s role during interventiona
 l procedures.\nIdentify areas of weakness that require additional self
 -study to successful pass your ultrasound board examination offered by
  ARDMS, CCI or ARRT.\n\n \n\nTopics\n\nAbdominal Vasculature\nLiver\n
 Gallbladder\nBiliary Tree\nPancreas\nSpleen\nRenal\nTrauma\nSuperficia
 l Structures: Thyroid & Scrotal\nMock Exams and Q&A Sessions\n\n\nFor 
 more information visit https://community.radrounds.com/events/abdomina
 l-ultrasound-registry-review-course-3
DTSTART:20170928T110000Z
DTEND:20170929T210000Z
CATEGORIES:cme, conference
LOCATION:Gulfcoast Ultrasound Institute
WEBSITE:https://www.gcus.com/courses/about.asp?course=1137/Abdominal-U
 ltrasound-Registry-Review-Course
URL:https://www.gcus.com/courses/about.asp?course=1137/Abdominal-Ultra
 sound-Registry-Review-Course
CONTACT:17273634500
ORGANIZER:GCUS
ATTACH;FMTTYPE="image/jpeg":http://storage.ning.com/topology/rest/1.0/
 file/get/1044771699?profile=original
ATTENDEE;ROLE=REQ-PARTICIPANT;PARTSTAT=ACCEPTED;RSVP=TRUE;CN="Casey Gr
 een":https://community.radrounds.com/profile/JamesSalame
END:VEVENT
END:VCALENDAR
