BEGIN:VCALENDAR
PRODID:NingEventWidget-v1
VERSION:2.0
METHOD:PUBLISH
BEGIN:VEVENT
UID:1791588:Event:167413
DTSTAMP:20260421T124123Z
SUMMARY:Abdominal Ultrasound (5 Day)
DESCRIPTION: Objectives At the completion of this course, the learner 
 will be able to:\n\nUtilize the principles of instrumentation to set u
 p ultrasound equipment for scanning.\nRecognize and identify the organ
  systems of the abdomen on an ultrasound image.\nPerform basic ultraso
 und procedures on the abdomen patient.\nUnderstand and identify pathol
 ogical variants and their influence in the ultrasound procedure.\nFoll
 ow the sequence of an abdominal ultrasound procedure from the beginnin
 g to its conclusion.\n \n\nCourse Topics\n\nUltrasound Physics and In
 strumentation\nUpper Abdominal Organ Systems Anatomy and Vasculature\n
 Evaluation and Image Review of Normal vs. Abnormal Studies\nScan Techn
 iques and Protocols for Image Acquisition of:\nPrevertebral Vessels\nL
 iver and Biliary System\nPancreas and Spleen\nKidney and Retroperitone
 um\nThyroid\nScrotum\n\n\n\n\nFor more information visit https://commu
 nity.radrounds.com/events/abdominal-ultrasound-5-day-13
DTSTART:20160613T120000Z
DTEND:20160613T201500Z
CATEGORIES:live, event
LOCATION:Houston
WEBSITE:https://store.aheconline.com/index.php?route=product/product&p
 ath=59&product_id=2212
URL:https://store.aheconline.com/index.php?route=product/product&path=
 59&product_id=2212
CONTACT:1-800-239-1361
ORGANIZER;CN="Larry Carney":https://community.radrounds.com/profile/La
 rryCarney
ATTACH;FMTTYPE="image/jpeg":
ATTENDEE;ROLE=REQ-PARTICIPANT;PARTSTAT=ACCEPTED;RSVP=TRUE;CN="Larry Ca
 rney":https://community.radrounds.com/profile/LarryCarney
END:VEVENT
END:VCALENDAR
