BEGIN:VCALENDAR
PRODID:NingEventWidget-v1
VERSION:2.0
METHOD:PUBLISH
BEGIN:VEVENT
UID:1791588:Event:158581
DTSTAMP:20260421T175024Z
SUMMARY:Abdominal Ultrasound (4 Day)
DESCRIPTION:The focus of this four day course is to provide participan
 ts with the confidence necessary to complete an abdominal ultrasound b
 ased on AIUM protocols. The course covers the basic protocols involved
  in an examination and general use of the ultrasound system. Normal an
 atomy of the liver, gall bladder, kidneys, spleen, abdominal vessels, 
 and pancreas will be discussed. Also included are soft tissue applicat
 ions and abdominal doppler.\nThe first three days the participants wil
 l gain experience through lecture and faculty supervised hands on scan
 ning. This format allows each participant ample opportunity to gain th
 e knowledge and confidence needed to independently perform a basic abd
 ominal ultrasound. The final day of this course will be spent entirely
  in the scanning lab. We will simulate a clinical lab setting with liv
 e models allowing participants to perfect their protocols.\nA complete
  two-week program can be accomplished with this course followed by the
  five day OB/GYN Ultrasound course.\nScan with the experts:\nSometimes
  it takes an additional day or two of scanning to generate confidence 
 in your new skill set. If you would like to add a day or two, all our 
 ultrasound skills courses can be scheduled with additional scan days i
 n our state of the art interactive scan lab. Give us a call and discus
 s your needs with our faculty so we can help you achieve your goals.\n
 \nFor more information visit https://community.radrounds.com/events/ab
 dominal-ultrasound-4-day-7
DTSTART:20150126T050000Z
DTEND:20150130T045900Z
CATEGORIES:seminar
LOCATION:AHEC
WEBSITE:https://store.aheconline.com/index.php?route=product/product&f
 ilter_name=ABDOMINAL%20ULTRASOUND%204%20DAY&product_id=1525
URL:https://store.aheconline.com/index.php?route=product/product&filte
 r_name=ABDOMINAL%20ULTRASOUND%204%20DAY&product_id=1525
CONTACT:713-772-0157
ORGANIZER;CN="Larry Carney":https://community.radrounds.com/profile/La
 rryCarney
ATTACH;FMTTYPE="image/jpeg":
ATTENDEE;ROLE=REQ-PARTICIPANT;PARTSTAT=ACCEPTED;RSVP=TRUE;CN="Larry Ca
 rney":https://community.radrounds.com/profile/LarryCarney
END:VEVENT
END:VCALENDAR
