BEGIN:VCALENDAR
PRODID:NingEventWidget-v1
VERSION:2.0
METHOD:PUBLISH
BEGIN:VEVENT
UID:1791588:Event:158278
DTSTAMP:20260420T122840Z
SUMMARY:Abdominal Ultrasound (4 Day)
DESCRIPTION:The focus of this four day course is to provide participan
 ts with the confidence necessary to complete an abdominal ultrasound b
 ased on AIUM protocols. The course covers the basic protocols involved
  in an examination and general use of the ultrasound system. Normal an
 atomy of the liver, gall bladder, kidneys, spleen, abdominal vessels, 
 and pancreas will be discussed. Also included are soft tissue applicat
 ions and abdominal doppler.\nThe first three days the participants wil
 l gain experience through lecture and faculty supervised hands on scan
 ning. This format allows each participant ample opportunity to gain th
 e knowledge and confidence needed to independently perform a basic abd
 ominal ultrasound. The final day of this course will be spent entirely
  in the scanning lab. We will simulate a clinical lab setting with liv
 e models allowing participants to perfect their protocols.\nA complete
  two-week program can be accomplished with this course followed by the
  five day OB/GYN Ultrasound course.\nScan with the experts:\nSometimes
  it takes an additional day or two of scanning to generate confidence 
 in your new skill set. If you would like to add a day or two, all our 
 ultrasound skills courses can be scheduled with additional scan days i
 n our state of the art interactive scan lab. Give us a call and discus
 s your needs with our faculty so we can help you achieve your goals.\n
 Objectives At the completion of this course, the learner will be able 
 to:\n\nUtilize the principles of instrumentation to set up ultrasound 
 equipment for obtaining diagnostic images according to AIUM guidelines
 .\nRecognize and identify the organ systems in the abdomen on an ultra
 sound image.\nPerform abdominal Doppler using Color and Pulsed Wave Do
 ppler\nUnderstand and identify pathological variants.\nFollow the sequ
 ence of an abdominal ultrasound procedure from the beginning to its co
 nclusion.\nRecognize and identify the thyroid, scrotum, and appendix\n
 \nCourse Topics\n\nUltrasound Physics and Instrumentation\nUpper Abdom
 inal Organ Systems Anatomy and Vasculature\nEvaluation and Image Revie
 w of Normal vs. Abnormal Studies\nScan Techniques and Protocols for Im
 age Acquisition of:\nPrevertebral Vessels\nLiver and Biliary System\nP
 ancreas, Spleen and Kidney\nThyroid, Scrotum and Appendix\nAbdominal D
 oppler\n\nTarget Audience Physicians who are at the entry level of ult
 rasound scanning and interpretation. Other health professionals learni
 ng abdominal ultrasound or cross training, including: sonographers, ph
 ysician assistants, etc.\nCME Credits\n\n“The Advanced Health Educat
 ion Center is accredited by the Accreditation Council for Continuing M
 edical Education to provide continuing medical education for physician
 s.”\n“The Advanced Health Education Center designates this educati
 onal activity for a maximum of 32 hours AMA PRA Category I™. Physici
 ans should claim credit commensurate with the extent of their particip
 ation in the activity.”\n“The Society of Diagnostic Medical Sonogr
 aphers allows 22 hours CE Credit.”\n\nFaculty: Debbie Robertson, BS,
  RDMS\n\nFor more information visit https://community.radrounds.com/ev
 ents/abdominal-ultrasound-4-day-4
DTSTART:20150908T120000Z
DTEND:20150911T210000Z
CATEGORIES:seminar
LOCATION:Advanced Health Education Center
WEBSITE:https://store.aheconline.com/index.php?route=product/product&f
 ilter_name=ABDOMINAL%20ULTRASOUND%204%20DAY&product_id=1521
URL:https://store.aheconline.com/index.php?route=product/product&filte
 r_name=ABDOMINAL%20ULTRASOUND%204%20DAY&product_id=1521
CONTACT:713-772-0157
ORGANIZER;CN="Larry Carney":https://community.radrounds.com/profile/La
 rryCarney
ATTACH;FMTTYPE="image/jpeg":
ATTENDEE;ROLE=REQ-PARTICIPANT;PARTSTAT=ACCEPTED;RSVP=TRUE;CN="Larry Ca
 rney":https://community.radrounds.com/profile/LarryCarney
END:VEVENT
END:VCALENDAR
