BEGIN:VCALENDAR
PRODID:NingEventWidget-v1
VERSION:2.0
METHOD:PUBLISH
BEGIN:VEVENT
UID:1791588:Event:151410
DTSTAMP:20260421T061846Z
SUMMARY:Abdominal Ultrasound (4 Day)
DESCRIPTION:The focus of this four day course is to provide participan
 ts with the confidence necessary to complete an abdominal ultrasound b
 ased on AIUM protocols. The course covers the basic protocols involved
  in an examination and general use of the ultrasound system. Normal an
 atomy of the liver, gall bladder, kidneys, spleen, abdominal vessels, 
 and pancreas will be discussed. Also included are soft tissue applicat
 ions and abdominal doppler.\n\nFor more information visit https://comm
 unity.radrounds.com/events/abdominal-ultrasound-4-day-1
DTSTART:20140610T040000Z
DTEND:20140614T035900Z
CATEGORIES:"cme:", ultrasound
LOCATION:Advanced Health Education Center
WEBSITE:https://store2.aheconline.com/index.php?route=product/product&
 path=59&product_id=968
URL:https://store2.aheconline.com/index.php?route=product/product&path
 =59&product_id=968
CONTACT:
ORGANIZER;CN="Larry Carney":https://community.radrounds.com/profile/La
 rryCarney
ATTACH;FMTTYPE="image/jpeg":
ATTENDEE;ROLE=REQ-PARTICIPANT;PARTSTAT=ACCEPTED;RSVP=TRUE;CN="Larry Ca
 rney":https://community.radrounds.com/profile/LarryCarney
END:VEVENT
END:VCALENDAR
