BEGIN:VCALENDAR
PRODID:NingEventWidget-v1
VERSION:2.0
METHOD:PUBLISH
BEGIN:VEVENT
UID:1791588:Event:164666
DTSTAMP:20260422T180328Z
SUMMARY:Abdominal Ultrasound (3 Day)
DESCRIPTION:The focus of this three day course is to provide participa
 nts with the confidence necessary to complete an abdominal ultrasound 
 based on AIUM protocols. The course covers the basic protocols involve
 d in an examination and general use of the ultrasound system. Normal a
 natomy of the liver, gall bladder, kidneys, spleen, abdominal vessels,
  and pancreas will be discussed. Also included are soft tissue applica
 tions and abdominal doppler. The participants will gain experience thr
 ough lecture and faculty supervised hands on scanning. This format all
 ows each participant ample opportunity to gain the knowledge and confi
 dence needed to independently perform a basic abdominal ultrasound.\n\
 nFor more information visit https://community.radrounds.com/events/abd
 ominal-ultrasound-3-day
DTSTART:20160125T130000Z
DTEND:20160127T210000Z
CATEGORIES:ultrasound, seminar
LOCATION:Advanced Health Education Center
WEBSITE:https://store.aheconline.com/index.php?route=product/product&p
 ath=59_83&product_id=2179
URL:https://store.aheconline.com/index.php?route=product/product&path=
 59_83&product_id=2179
CONTACT:1-800-239-1361
ORGANIZER;CN="Larry Carney":https://community.radrounds.com/profile/La
 rryCarney
ATTACH;FMTTYPE="image/jpeg":
ATTENDEE;ROLE=REQ-PARTICIPANT;PARTSTAT=ACCEPTED;RSVP=TRUE;CN="Larry Ca
 rney":https://community.radrounds.com/profile/LarryCarney
END:VEVENT
END:VCALENDAR
