BEGIN:VCALENDAR
PRODID:NingEventWidget-v1
VERSION:2.0
METHOD:PUBLISH
BEGIN:VEVENT
UID:1791588:Event:116149
DTSTAMP:20260421T121136Z
SUMMARY:Abdominal Radiology Course 2012
DESCRIPTION:Abdominal Radiology Course 2012 Sunday, March 25, 2012 - F
 riday, March 30, 2012Fairmont Scottsdale Scottsdale, Arizona (AZ), Uni
 ted StatesProvided by Society of Gastrointestinal Radiologists  CME Pr
 ovider: Society of Gastrointestinal Radiologists c/o International Mee
 ting Managers4550 Post Oak Place, Suite 342Houston, Texas (TX) 77027Un
 ited States\nPhone: (713) 965-0566Fax: (713) 960-0488\n\nConference Ce
 nter:Fairmont Scottsdale 7575 East Princess DriveScottsdale, Arizona (
 AZ) 85255United States\nToll Free: (866) 540-4495Phone: (480) 585-4848
 Fax: (480) 585-0091\nDescription:Please visit the Society of Gastroint
 estinal Radiologists website for more information.\nSelf Assessment Mo
 dule (SAM): No\nInstructors:Please visit the Society of Gastrointestin
 al Radiologists website for more information.\nSpecialty Audience:Radi
 ology\n\nFor more information visit https://community.radrounds.com/ev
 ents/abdominal-radiology-course-2012
DTSTART:20120325T040000Z
DTEND:20120331T035900Z
CATEGORIES:radiology
LOCATION:Fairmont Scottsdale
WEBSITE:http://www.fairmont.com/scottsdale
URL:http://www.fairmont.com/scottsdale
CONTACT:(480) 585-4848
ORGANIZER:Society of Gastrointestinal Radiologists
ATTACH;FMTTYPE="image/jpeg":
ATTENDEE;ROLE=REQ-PARTICIPANT;PARTSTAT=ACCEPTED;RSVP=TRUE;CN="radRound
 s Radiology Events":https://community.radrounds.com/profile/radRoundsR
 adiologyEvents
END:VEVENT
END:VCALENDAR
