BEGIN:VCALENDAR
PRODID:NingEventWidget-v1
VERSION:2.0
METHOD:PUBLISH
BEGIN:VEVENT
UID:1791588:Event:116165
DTSTAMP:20260423T100353Z
SUMMARY:Abdominal Imaging 2012: The Current Knowledge Base that Suppor
 ts Safe and Clinically Effective Practice
DESCRIPTION:Saturday, April 21, 2012 - Saturday, April 21, 2012Washing
 ton Hilton Washington, District of Columbia (DC), United StatesProvide
 d by American College of Radiology (ACR)  CME Provider: American Colle
 ge of Radiology (ACR) 1891 Preston White DriveReston, Virginia (VA) 20
 191United States\nToll Free: (800) 227-5463Phone: (800) 227-5463\n\nCo
 nference Center:Washington Hilton 1919 Connecticut Ave., NWWashington,
  District of Columbia (DC) 20009United States\nPhone: 202-483-3000\nDe
 scription:Abdominal CT, MRI and Ultrasound are the mainstay imaging mo
 dalities for diagnosing abdominal disease, specifically those of the g
 astrointestinal (GI) and genitourinary (GU) systems. Their widespread 
 availability has resulted in their increased utilization. It is impera
 tive that radiologists incorporate these technological advances into t
 heir clinical practice in a way that is both medically appropriate and
  safe.\nSelf Assessment Module (SAM): No\nInstructors:Co-Chairs: Alec 
 J. Megibow, MD , MPH, FACR and Stuart G. Silverman, MD, FACR\nSpecialt
 y Audience:Radiology\n\nFor more information visit https://community.r
 adrounds.com/events/abdominal-imaging-2012-the-current-knowledge-base-
 that-supports
DTSTART:20120421T040000Z
DTEND:20120422T035900Z
CATEGORIES:radiology
LOCATION:Washington Hilton
WEBSITE:http://www1.hilton.com/en_US/hi/hotel/DCAWHHH-Washington-Hilto
 n-District-of-Columbia/photoGallery.do?ctyhocn=DCAWHHH
URL:http://www1.hilton.com/en_US/hi/hotel/DCAWHHH-Washington-Hilton-Di
 strict-of-Columbia/photoGallery.do?ctyhocn=DCAWHHH
CONTACT:202-483-3000
ORGANIZER:American College of Radiology (ACR)
ATTACH;FMTTYPE="image/jpeg":
ATTENDEE;ROLE=REQ-PARTICIPANT;PARTSTAT=ACCEPTED;RSVP=TRUE;CN="radRound
 s Radiology Events":https://community.radrounds.com/profile/radRoundsR
 adiologyEvents
END:VEVENT
END:VCALENDAR
