BEGIN:VCALENDAR
PRODID:NingEventWidget-v1
VERSION:2.0
METHOD:PUBLISH
BEGIN:VEVENT
UID:1791588:Event:158754
DTSTAMP:20260421T080627Z
SUMMARY:Abdominal Doppler Ultrasound
DESCRIPTION:Abdominal Doppler has become an addition in the arsenal of
  tools available to the physician to aid in the diagnosis of their pat
 ients. Vascular ultrasound has progressed over the years to become muc
 h more than a screening tool. Accurate diagnostic testing of the vascu
 lar system requires a comprehensive understanding of anatomy and hemod
 ynamics as well as the various pathological conditions that can presen
 t. Multiple variables such as cardiac output, abnormal liver enzymes, 
 cirrhosis, metastatic and renal disease can all have an impact on the 
 vascular system. \nThis one-day seminar provides an overview of abdom
 inal vasculature and hemodynamics, and diagnostic criteria suitable fo
 r anyone from an experienced sonographer to the beginner. Our scan lab
  and state of the art equipment, along with our low student instructor
  ratios allow you plenty of time to perfect your protocol, and acquire
  the scanning experience necessary to perform diagnostic abdominal vas
 cular exams.\n*This course can be taken individually as a two (2) day 
 course OR part of the Vascular Ultrasound seven (7) day course\n\nFo
 r more information visit https://community.radrounds.com/events/abdomi
 nal-doppler-ultrasound-9
DTSTART:20150118T050000Z
DTEND:20150119T045900Z
CATEGORIES:seminar
LOCATION:AHEC
WEBSITE:https://store.aheconline.com/index.php?route=product/product&f
 ilter_name=abdominal%20doppler%20ultrasuond&product_id=1517
URL:https://store.aheconline.com/index.php?route=product/product&filte
 r_name=abdominal%20doppler%20ultrasuond&product_id=1517
CONTACT:713-772-0157
ORGANIZER;CN="Larry Carney":https://community.radrounds.com/profile/La
 rryCarney
ATTACH;FMTTYPE="image/jpeg":
ATTENDEE;ROLE=REQ-PARTICIPANT;PARTSTAT=ACCEPTED;RSVP=TRUE;CN="Larry Ca
 rney":https://community.radrounds.com/profile/LarryCarney
END:VEVENT
END:VCALENDAR
