BEGIN:VCALENDAR
PRODID:NingEventWidget-v1
VERSION:2.0
METHOD:PUBLISH
BEGIN:VEVENT
UID:1791588:Event:165006
DTSTAMP:20260420T171224Z
SUMMARY:Abdominal Doppler Ultrasound
DESCRIPTION:Abdominal Doppler has become an addition in the arsenal of
  tools available to the physician to aid in the diagnosis of their pat
 ients. Vascular ultrasound has progressed over the years to become muc
 h more than a screening tool. Accurate diagnostic testing of the vascu
 lar system requires a comprehensive understanding of anatomy and hemod
 ynamics as well as the various pathological conditions that can presen
 t. Multiple variables such as cardiac output, abnormal liver enzymes, 
 cirrhosis, metastatic and renal disease can all have an impact on the 
 vascular system. This one-day seminar provides an overview of abdomina
 l vasculature and hemodynamics, and diagnostic criteria suitable for a
 nyone from an experienced sonographer to the beginner. Our scan lab an
 d state of the art equipment, along with our low student instructor ra
 tios allow you plenty of time to perfect your protocol, and acquire th
 e scanning experience necessary to perform diagnostic abdominal vascul
 ar exams.\n\nFor more information visit https://community.radrounds.co
 m/events/abdominal-doppler-ultrasound-13
DTSTART:20160516T120000Z
DTEND:20160516T200000Z
CATEGORIES:ultrasound, seminar
LOCATION:Advanced Health Education Center
WEBSITE:https://store.aheconline.com/index.php?route=product/product&p
 ath=59_83&product_id=2207
URL:https://store.aheconline.com/index.php?route=product/product&path=
 59_83&product_id=2207
CONTACT:1-800-239-1361
ORGANIZER;CN="Larry Carney":https://community.radrounds.com/profile/La
 rryCarney
ATTACH;FMTTYPE="image/jpeg":
ATTENDEE;ROLE=REQ-PARTICIPANT;PARTSTAT=ACCEPTED;RSVP=TRUE;CN="Larry Ca
 rney":https://community.radrounds.com/profile/LarryCarney
END:VEVENT
END:VCALENDAR
