BEGIN:VCALENDAR
PRODID:NingEventWidget-v1
VERSION:2.0
METHOD:PUBLISH
BEGIN:VEVENT
UID:1791588:Event:116102
DTSTAMP:20260424T021004Z
SUMMARY:A Systems Approach to Assessment in Health Professions Educati
 on
DESCRIPTION:A Systems Approach to Assessment in Health Professions Edu
 cation Sunday, March 11, 2012 - Friday, March 16, 2012Joseph B. Martin
  Conference Center Boston, Massachusetts (MA), United StatesProvided b
 y Harvard Medical School  CME Provider: Harvard Medical School Departm
 ent of Continuing EducationP.O. Box 825Boston, Massachusetts (MA) 0211
 7-0825United States\nPhone: (617) 384-8600Fax: (617) 384-8686\n\nConfe
 rence Center:Joseph B. Martin Conference Center Harvard Medical School
 77 Avenue Louis PasteurBoston, Massachusetts (MA) 02115United States\n
 Phone: (866) 790-7000\n Description:Please visit the Harvard Medical S
 chool website for more information.\nSelf Assessment Module (SAM): No\
 nInstructors:Elizabeth Armstrong, PhD\nSpecialty Audience:Allergy / Im
 munologyAnesthesiologyDermatologyEmergency MedicineFamily MedicineGene
 ticsInternal MedicineMedical EthicsNeurologyObstetrics / GynecologyOph
 thalmologyOtolaryngologyPathologyPediatricsPractice ManagementPreventa
 tive MedicinePsychiatryQuality AssuranceRadiation TherapyRadiologyRisk
  ManagementSurgery\n\nFor more information visit https://community.rad
 rounds.com/events/a-systems-approach-to-assessment-in-health-professio
 ns-education
DTSTART:20120311T050000Z
DTEND:20120317T035900Z
CATEGORIES:radiology
LOCATION:Joseph B. Martin Conference Center
WEBSITE:http://www.theconfcenter.hms.harvard.edu/
URL:http://www.theconfcenter.hms.harvard.edu/
CONTACT:(866) 790-7000
ORGANIZER:Harvard Medical School
ATTACH;FMTTYPE="image/jpeg":
ATTENDEE;ROLE=REQ-PARTICIPANT;PARTSTAT=ACCEPTED;RSVP=TRUE;CN="radRound
 s Radiology Events":https://community.radrounds.com/profile/radRoundsR
 adiologyEvents
END:VEVENT
END:VCALENDAR
