BEGIN:VCALENDAR
PRODID:NingEventWidget-v1
VERSION:2.0
METHOD:PUBLISH
BEGIN:VEVENT
UID:1791588:Event:33527
DTSTAMP:20260419T174601Z
SUMMARY:A Review of MR Imaging
DESCRIPTION:A Review of MR Imaging\nSaturday, September 12, 2009\nIndi
 anapolis, IN\n\nMEETING SPONSOR:\nMTMI\n\nBill Bresser\n20900 Swenson 
 Drive\nSuite 650\nWaukesha, WI 53186\nToll-Free 800-765-6864\n262-717-
 9797\nFAX 262-717-9171\nEmail: bill@mtmi.net\nWebsite: http://www.mtmi
 .net/seminars/MRI_Review.php\n\nCONFERENCE CENTER:\nTo Be Determined, 
 Please See Website\nIndianapolis, IN\n\nMEETING BROCHURE:\nTo view and
  print the meeting brochure, click here:\nhttp://www.mtmi.net/seminars
 /MRI_Review.php\n\nMEETING DESCRIPTION:\nThis seminar provides valuabl
 e information for technologists working in MR and wanting to improve t
 heir knowledge of this technology. This seminar is also appropriate fo
 r technologists wanting to cross train into MR and gain knowledge in t
 his highly technical field. Survival in today’s increasingly competi
 tive market of MRI means that you must have a comprehensive knowledge 
 of this modality. The information provided in this seminar will expand
  your knowledge of this powerful diagnostic tool and enhance you imagi
 ng techniques.\n\nThis program awards 8 hours of Category A continuing
  education credit for radiologic technologists recognized by the ARRT 
 and various licensure states. A certificate of attendance will be prov
 ided for each individual upon completion of the seminar. All attendees
  must attend the entire seminar to receive full credit.\n\nINSTRUCTORS
 :\nPadikal\n\nCME HOURS: 8 hours Category A credit\n\nLECTURE TOPICS:\
 nMRI\n\nACTIVITIES: not listed\n\nFor more information visit https://c
 ommunity.radrounds.com/events/a-review-of-mr-imaging-1
DTSTART:20090912T040000Z
DTEND:20090913T035900Z
CATEGORIES:review
LOCATION:Indianapolis, IN
WEBSITE:http://radlist.com/meeting.asp?meeting_id=4003
URL:http://radlist.com/meeting.asp?meeting_id=4003
CONTACT:
ORGANIZER:MTMI
ATTACH;FMTTYPE="image/jpeg":
ATTENDEE;ROLE=REQ-PARTICIPANT;PARTSTAT=ACCEPTED;RSVP=TRUE;CN="radRound
 s Radiology Events":https://community.radrounds.com/profile/radRoundsR
 adiologyEvents
END:VEVENT
END:VCALENDAR
