BEGIN:VCALENDAR
PRODID:NingEventWidget-v1
VERSION:2.0
METHOD:PUBLISH
BEGIN:VEVENT
UID:1791588:Event:196519
DTSTAMP:20260421T141010Z
SUMMARY:A Perfect Partnership: Forensics and Radiology (Live Webinar)
DESCRIPTION:Course Description:\nYou are in for a real treat!  Dr. Br
 own will share his expertise in Forensic Radiology with you during thi
 s most sought after course.  You will learn how radiographic forensic
 s is used to solve crimes, identify the deceased, and prove child abus
 e.  Dr. Brown will share his experience with virtual autopsy and its 
 impact on the future of legal medicine.\nCourse Topics:\n\nForensic Pa
 thology & Forensic Radiology\nRadiology of Blunt Force Injuries\nChild
  Abuse and Inflicted Trauma\nRadiology for Identification Purposes\nRa
 diology in Non-Violent Crimes\nRadiographic Peculiarities\nRadiology o
 f Sharp Force Injuries\nRadiology of Firearm Injuries\nVirtual Autopsy
 \n\n\nFor more information visit https://community.radrounds.com/event
 s/a-perfect-partnership-forensics-and-radiology-live-webinar-2
DTSTART:20200320T130000Z
DTEND:20200320T203000Z
CATEGORIES:live, webinar
LOCATION:Advanced Health Education Center
WEBSITE:http://store.aheconline.com
URL:http://store.aheconline.com
CONTACT:1(800) 239-1361
ORGANIZER:AHEC
ATTACH;FMTTYPE="image/jpeg":
ATTENDEE;ROLE=REQ-PARTICIPANT;PARTSTAT=ACCEPTED;RSVP=TRUE;CN="Larry Ca
 rney":https://community.radrounds.com/profile/LarryCarney
END:VEVENT
END:VCALENDAR
