BEGIN:VCALENDAR
PRODID:NingEventWidget-v1
VERSION:2.0
METHOD:PUBLISH
BEGIN:VEVENT
UID:1791588:Event:182810
DTSTAMP:20260422T180244Z
SUMMARY:A Perfect Partnership: Forensics and Radiology (Live Simulcast
 )
DESCRIPTION:Course Description:\nYou are in for a real treat!  Dr. Br
 own will share his expertise in Forensic Radiology with you during thi
 s most sought after course.  You will learn how radiographic forensic
 s is used to solve crimes, identify the deceased, and prove child abus
 e.  Dr. Brown will share his experience with virtual autopsy and its 
 impact on the future of legal medicine.\n\nFor more information visit 
 https://community.radrounds.com/events/a-perfect-partnership-forensics
 -and-radiology-live-simulcast
DTSTART:20180707T130000Z
DTEND:20180707T203000Z
CATEGORIES:live, simulcast
LOCATION:Advanced Health Education Center
WEBSITE:https://store.aheconline.com/
URL:https://store.aheconline.com/
CONTACT:800-239-1361
ORGANIZER;CN="Larry Carney":https://community.radrounds.com/profile/La
 rryCarney
ATTACH;FMTTYPE="image/jpeg":
ATTENDEE;ROLE=REQ-PARTICIPANT;PARTSTAT=ACCEPTED;RSVP=TRUE;CN="Larry Ca
 rney":https://community.radrounds.com/profile/LarryCarney
END:VEVENT
END:VCALENDAR
