BEGIN:VCALENDAR
PRODID:NingEventWidget-v1
VERSION:2.0
METHOD:PUBLISH
BEGIN:VEVENT
UID:1791588:Event:183445
DTSTAMP:20260424T091454Z
SUMMARY:A Perfect Partnership: Forensics and Radiology (Live Simulcast
 )
DESCRIPTION:You are in for a real treat! Dr. Brown will share his expe
 rtise in Forensic Radiology with you during this most sought after cou
 rse. You will learn how radiographic forensics is used to solve crimes
 , identify the deceased, and prove child abuse. Dr. Brown will share h
 is experience with virtual autopsy and its impact on the future of leg
 al medicine.\n\nFor more information visit https://community.radrounds
 .com/events/a-perfect-partnership-forensics-and-radiology-live-simulca
 st-1
DTSTART:20180824T130000Z
DTEND:20180824T203000Z
CATEGORIES:live, simulcast
LOCATION:Advanced Health Education Center
WEBSITE:https://store.aheconline.com/
URL:https://store.aheconline.com/
CONTACT:800-239-1361
ORGANIZER;CN="Larry Carney":https://community.radrounds.com/profile/La
 rryCarney
ATTACH;FMTTYPE="image/jpeg":
ATTENDEE;ROLE=REQ-PARTICIPANT;PARTSTAT=ACCEPTED;RSVP=TRUE;CN="Larry Ca
 rney":https://community.radrounds.com/profile/LarryCarney
END:VEVENT
END:VCALENDAR
