BEGIN:VCALENDAR
PRODID:NingEventWidget-v1
VERSION:2.0
METHOD:PUBLISH
BEGIN:VEVENT
UID:1791588:Event:116444
DTSTAMP:20260422T232640Z
SUMMARY:9th Clinical Breast Imaging 2012
DESCRIPTION:9th Clinical Breast Imaging 2012 Thursday, May 10, 2012 - 
 Saturday, May 12, 2012San Antonio Marriott Rivercenter San Antonio, Te
 xas (TX), United StatesProvided by Educational Symposia (ESI)  CME Pro
 vider: Educational Symposia (ESI) 5620 W. Sligh AvenueTampa, Florida (
 FL) 33634-4490United States\nToll Free: (800) 338-5901Phone: (813) 806
 -1000Fax: (800) 344-0668\n\nConference Center:San Antonio Marriott Riv
 ercenter 101 Bowie StreetSan Antonio, Texas (TX) 78205United States\nT
 oll Free: (800) 648-4462Phone: (210) 223-1000\n Description:ABOUT THE 
 MEETING\nThis symposium is structured to provide a broad clinical pers
 pective of breast imaging. The course focuses on a systematic approach
  to breast imaging and interpretation strategies. A review of image gu
 ided breast biopsy procedures delivers basic to advanced techniques an
 d the importance of pathologic correlation. Rounding out the program a
 re updates in breast imaging modalities like ultrasound, magnetic reso
 nance and digital imaging. The faculty for this course have been chose
 n for their teaching ability, as well as for their clinical expertise.
  ---------------------------------------------------------------------
 -TARGET AUDIENCE\nThis CME activity is primarily intended and designed
  to educate diagnostic imaging physicians who perform and interpret br
 east imaging examinations. The CME activity should also benefit referr
 ing physicians who order breast imaging procedures and technologists w
 ho perform these procedures. -----------------------------------------
 -----------------------------EDUCATIONAL OBJECTIVES\nAttendees should,
  at the completion of this course, be able to:\nAssess the current and
  future applications of breast imagingDevelop imaging protocols and al
 gorithms to accurately assess breast pathologyRecognize subtle signs o
 f breast carcinoma utilizing multiple imaging modalitiesDiscuss the ap
 plications and pitfalls of breast biopsy techniquesAnalyze the role of
  MR and ultrasound in detection and screening for breast cancerNo spec
 ial educational preparation is required for this CME activity.\nSelf A
 ssessment Module (SAM): No\nInstructors:Program DirectorStephen A. Fei
 g, M.D., FACR\nG. W. Eklund, M.D., FACRClinical Professor of Radiology
 Oregon Health Sciences UniversityPortland, OR\nStephen A. Feig, M.D., 
 FACRDirector of Breast Imaging UCI Medical CenterProfessor of Radiolog
 yFong and Jean Tsai Professor of Women's ImagingUniversity of Californ
 ia Irvine School of Medicine\nStuart S. Kaplan, M.D.Section Chief, Bre
 ast ImagingVice Chair, Department of RadiologyMount Sinai Comprehensiv
 e Cancer CenterMount Sinai Medical CenterMiami Beach, FL\nMichael N. L
 inver, M.D., FACRDirector of MammographyX-Ray Associates of New Mexico
 , P.C.Clinical Professor of RadiologyUniversity of New MexicoAlbuquerq
 ue, NM\nJay R. Parikh, M.D., FRCP(c), FACPE, FACRMedical DirectorWomen
 's Diagnostic Imaging CenterSwedish Cancer InstituteSeattle, WA\nEdwar
 d A. Sickles, M.D., FACRProfessor Emeritus of RadiologyUniversity of C
 alifornia, San Francisco\nSpecialty Audience:Radiology\n\nFor more inf
 ormation visit https://community.radrounds.com/events/9th-clinical-bre
 ast-imaging-2012
DTSTART:20120510T040000Z
DTEND:20120513T035900Z
CATEGORIES:radiology
LOCATION:San Antonio Marriott Rivercenter
WEBSITE:http://www.marriott.com/hotels/travel/satrc-san-antonio-marrio
 tt-rivercenter/
URL:http://www.marriott.com/hotels/travel/satrc-san-antonio-marriott-r
 ivercenter/
CONTACT:(210) 223-1000
ORGANIZER:Educational Symposia (ESI)
ATTACH;FMTTYPE="image/jpeg":
ATTENDEE;ROLE=REQ-PARTICIPANT;PARTSTAT=ACCEPTED;RSVP=TRUE;CN="radRound
 s Radiology Events":https://community.radrounds.com/profile/radRoundsR
 adiologyEvents
END:VEVENT
END:VCALENDAR
