BEGIN:VCALENDAR
PRODID:NingEventWidget-v1
VERSION:2.0
METHOD:PUBLISH
BEGIN:VEVENT
UID:1791588:Event:166554
DTSTAMP:20260420T104408Z
SUMMARY:7th International Pediatric Radiology Conjoint Meeting & Exhib
 ition
DESCRIPTION:The scientific program will include worldr-enowned speaker
 s, sunrise workshops, keynote lectures with scientific sessions, poste
 rs, and the ever-popular Laurent Garel-hosted game show. This year for
  the first time we will feature a separate radiographer’s program wi
 th content specifically targeted for pediatric radiology technologists
  and radiographers.\n\nFor more information visit https://community.ra
 drounds.com/events/7th-international-pediatric-radiology-conjoint-meet
 ing-exhibition
DTSTART:20160515T170000Z
DTEND:20160520T163000Z
CATEGORIES:pediatric, radiology, meeting
LOCATION:Fairmont Hotel
WEBSITE:
URL:
CONTACT:
ORGANIZER:The Society for Pediatric Radiology
ATTACH;FMTTYPE="image/jpeg":
ATTENDEE;ROLE=REQ-PARTICIPANT;PARTSTAT=ACCEPTED;RSVP=TRUE;CN="Angela D
 avis":https://community.radrounds.com/profile/KarenSchmitt
END:VEVENT
END:VCALENDAR
