BEGIN:VCALENDAR
PRODID:NingEventWidget-v1
VERSION:2.0
METHOD:PUBLISH
BEGIN:VEVENT
UID:1791588:Event:170277
DTSTAMP:20260420T070748Z
SUMMARY:6th Annual SPECT/CT sympsioum: Current status and future direc
 tions
DESCRIPTION:Delivered jointly by the BIR and Royal Free Hospital. The
  BIR is pleased to announce that its popular Annual SPECT/CT Symposium
  will be returning for its 6th year. This year the event will be deliv
 ered across two days in an upgraded format.The first day will keep in 
 the successful style of the previous years, consisting of two educatio
 nal streams (clinical applications and physics and technical aspects).
  This day will be delivered through a series of lectures and quiz styl
 e sessions to provide the fundamental knowledge and skills on the topi
 c of SPECT/CT imaging. The second day is a brand new optional extra t
 hat will deliver an interactive learning experience to reinforce the k
 nowledge gained on day 1. Delegates from each stream will have the opt
 ion to attend a corresponding interactive event:\n\nFor delegates who 
 attended the clinical applications stream on day 1: Case-based study d
 ay using iMac workstations with typical cases through OsiriX software.
  Limited to 40 delegates.\nFor delegates who attended the physics and 
 technical stream on day 1: A technical day at the Royal Free Hospital.
  Limited to 30 delegates.\n\nDelegates must attend the first day to ha
 ve the opportunity to attend the second day. \n\nView full event prog
 ramme\n\nRegister here\n\nFor more information visit https://community
 .radrounds.com/events/6th-annual-spect-ct-sympsioum-current-status-and
 -future
DTSTART:20170209T134500Z
DTEND:20170210T220000Z
CATEGORIES:conference, workshop, symposium
LOCATION:Royal Society of Medicine
WEBSITE:https://www.google.co.uk/maps/place/The+Royal+Society+of+Medic
 ine/@51.516075,-0.1493201,17z/data=!3m1!4b1!4m5!3m4!1s0x48761ad4a023c4
 c5:0xbc1edbfb041bccea!8m2!3d51.516075!4d-0.1471314
URL:https://www.google.co.uk/maps/place/The+Royal+Society+of+Medicine/
 @51.516075,-0.1493201,17z/data=!3m1!4b1!4m5!3m4!1s0x48761ad4a023c4c5:0
 xbc1edbfb041bccea!8m2!3d51.516075!4d-0.1471314
CONTACT:02036682226
ORGANIZER:The British Institute of Radiology
ATTACH;FMTTYPE="image/jpeg":http://storage.ning.com/topology/rest/1.0/
 file/get/1044771729?profile=original
ATTENDEE;ROLE=REQ-PARTICIPANT;PARTSTAT=ACCEPTED;RSVP=TRUE;CN="Malini B
 anerjee":https://community.radrounds.com/profile/MaliniBanerjee
END:VEVENT
END:VCALENDAR
