BEGIN:VCALENDAR
PRODID:NingEventWidget-v1
VERSION:2.0
METHOD:PUBLISH
BEGIN:VEVENT
UID:1791588:Event:165375
DTSTAMP:20260423T184907Z
SUMMARY:5th Annual SPECT/CT symposium: Current status and future direc
 tions of SPECT/CT imaging
DESCRIPTION:Educational aims and objectives:\nClinical applications:\n
 \nUnderstand specific applications of SPECT/CT in various oncological 
 and non-oncological applications\nDevelop best practice consensus: pro
 tocols and reporting scans\nDefine optimal patient management based on
  scan results/findings \n\n \nPhysics and technical aspects:\n\nUnde
 rstand specific scientific principles and applications of SPECT/CT\nRa
 diation dose modulation\nDevelop best practice consensus: protocols, p
 atient positioning, high quality imaging and reconstruction techniques
 \nRecognise common artefacts\nSending RIGHT imaging to PACS\n\n\nFor m
 ore information visit https://community.radrounds.com/events/5th-annua
 l-spect-ct-symposium-current-status-and-future
DTSTART:20160222T050000Z
DTEND:20160223T045900Z
CATEGORIES:conference
LOCATION:Royal Society of Medicine
WEBSITE:https://membersarea.bir.org.uk/multievents/displayEvent.asp?Ty
 pe=Full&Code=5272
URL:https://membersarea.bir.org.uk/multievents/displayEvent.asp?Type=F
 ull&Code=5272
CONTACT:020 3668 2230
ORGANIZER;CN="Rebecca Groves":https://community.radrounds.com/profile/
 RebeccaGroves
ATTACH;FMTTYPE="image/jpeg":
ATTENDEE;ROLE=REQ-PARTICIPANT;PARTSTAT=ACCEPTED;RSVP=TRUE;CN="Rebecca 
 Groves":https://community.radrounds.com/profile/RebeccaGroves
END:VEVENT
END:VCALENDAR
