BEGIN:VCALENDAR
PRODID:NingEventWidget-v1
VERSION:2.0
METHOD:PUBLISH
BEGIN:VEVENT
UID:1791588:Event:162311
DTSTAMP:20260420T233513Z
SUMMARY:4th Annual Miami Neuro Symposium
DESCRIPTION:Â Accurate and timely emergency management of acute neurol
 ogic presentations requires multidisciplinary coordination. This yearâ
 €™s symposium focuses on comprehensive best-practice strategies for: i
 dentification of neurological emergencies, selection of appropriate di
 agnostic approaches, interpretation of results and consultation, trans
 ition of care and initial management and referral.Â Â Â Â  Featured to
 pics include trauma, seizures, headaches, pain management, movement di
 sorders, encephalopathy, demyelinating diseases, dizziness, vertigo, n
 ear syncope, low back pain, acute ischemic stroke and cervical dissect
 ion, as well as imaging workup and neurocritical care management.\n\nF
 or more information visit https://community.radrounds.com/events/4th-a
 nnual-miami-neuro-symposium
DTSTART:20151203T130000Z
DTEND:20151205T173000Z
CATEGORIES:continuing, medical, education
LOCATION:Biltmore Hotel
WEBSITE:http://MiamiNeuro.BaptistHealth.net
URL:http://MiamiNeuro.BaptistHealth.net
CONTACT:786-596-2398
ORGANIZER:Baptist Health South Florida
ATTACH;FMTTYPE="image/jpeg":
ATTENDEE;ROLE=REQ-PARTICIPANT;PARTSTAT=ACCEPTED;RSVP=TRUE;CN="Julie Zi
 mmett":https://community.radrounds.com/profile/JulieZimmett
END:VEVENT
END:VCALENDAR
