BEGIN:VCALENDAR
PRODID:NingEventWidget-v1
VERSION:2.0
METHOD:PUBLISH
BEGIN:VEVENT
UID:1791588:Event:115841
DTSTAMP:20260424T125451Z
SUMMARY:40 Hour Comprehensive Mammography Training Course
DESCRIPTION:40 Hour Comprehensive Mammography Training Course Wednesda
 y, February 22, 2012 - Sunday, February 26, 2012Meeting location pendi
 ng Orlando, Florida (FL), United StatesProvided by Medical Technology 
 Management Institute (MTMI)  CME Provider: Medical Technology Manageme
 nt Institute (MTMI) 20900 Swenson DriveSuite 650Waukesha, Wisconsin (W
 I) 53186United States\nToll Free: (800) 765-6864Phone: (262) 717-9797F
 ax: (262) 717-9171\n\nConference Center:Meeting location pending Meeti
 ng location pendingOrlando, Florida (FL) United States\nToll Free: (80
 0) 765-6864Phone: (262) 717-9797Fax: (262) 717-9171\n Description:This
  comprehensive course uses lecture sessions, clinical images and hands
 -on training sessions with live models to enhance your skills and unde
 rstanding of the mammography process. Quality control, technologist re
 sponsibilities for quality assurance, positioning with breast implants
  as required by MQSA and film critique are also covered.\nSelf Assessm
 ent Module (SAM): No\nInstructors:Shelly Lille, BS, RT (R) (M)Wendy Ma
 rshall, RT (R) (M)\nSpecialty Audience:Radiology\n\nFor more informati
 on visit https://community.radrounds.com/events/40-hour-comprehensive-
 mammography-training-course-9
DTSTART:20120222T050000Z
DTEND:20120227T045900Z
CATEGORIES:radiology
LOCATION:Meeting location pending
WEBSITE:http://www.mtmi.net/
URL:http://www.mtmi.net/
CONTACT:(262) 717-9797
ORGANIZER:Medical Technology Management Institute (MTMI)
ATTACH;FMTTYPE="image/jpeg":
ATTENDEE;ROLE=REQ-PARTICIPANT;PARTSTAT=ACCEPTED;RSVP=TRUE;CN="radRound
 s Radiology Events":https://community.radrounds.com/profile/radRoundsR
 adiologyEvents
END:VEVENT
END:VCALENDAR
