BEGIN:VCALENDAR
PRODID:NingEventWidget-v1
VERSION:2.0
METHOD:PUBLISH
BEGIN:VEVENT
UID:1791588:Event:106886
DTSTAMP:20260419T204219Z
SUMMARY:40 Hour Comprehensive Mammography Training Course
DESCRIPTION:This comprehensive course uses lecture sessions, clinical 
 images and hands-on training sessions with live models to enhance your
  skills and understanding of the mammography process. Quality control,
  technologist responsibilities for quality assurance, positioning with
  breast implants as required by MQSA and film critique are also covere
 d.\n\nFor more information visit https://community.radrounds.com/event
 s/40-hour-comprehensive-mammography-training-course-3
DTSTART:20120620T120000Z
DTEND:20120624T161500Z
CATEGORIES:cme, mammography, course
LOCATION:San Jose, CA
WEBSITE:http://www.mtmi.net/courses/reg_mamm.php
URL:http://www.mtmi.net/courses/reg_mamm.php
CONTACT:(800) 765-6864
ORGANIZER:Medical Technology Management Institute (MTMI)
ATTACH;FMTTYPE="image/jpeg":http://storage.ning.com/topology/rest/1.0/
 file/get/1044731726?profile=original
ATTENDEE;ROLE=REQ-PARTICIPANT;PARTSTAT=ACCEPTED;RSVP=TRUE;CN="Rizza T.
  Kinney":https://community.radrounds.com/profile/RizzaTKinney
END:VEVENT
END:VCALENDAR
