BEGIN:VCALENDAR
PRODID:NingEventWidget-v1
VERSION:2.0
METHOD:PUBLISH
BEGIN:VEVENT
UID:1791588:Event:116231
DTSTAMP:20260421T092120Z
SUMMARY:40 Hour Comprehensive Mammography Training Course
DESCRIPTION:40 Hour Comprehensive Mammography Training Course Wednesda
 y, April 25, 2012 - Sunday, April 29, 2012Meeting location pending Dal
 las, Texas (TX), United StatesProvided by Medical Technology Managemen
 t Institute (MTMI)  CME Provider: Medical Technology Management Instit
 ute (MTMI) 20900 Swenson DriveSuite 650Waukesha, Wisconsin (WI) 53186U
 nited States\nToll Free: (800) 765-6864Phone: (262) 717-9797Fax: (262)
  717-9171\n\nConference Center:Meeting location pending Meeting locati
 on pendingDallas, Texas (TX) United States\nToll Free: (800) 765-6864P
 hone: (262) 717-9797Fax: (262) 717-9171\n Description:This comprehensi
 ve course uses lecture sessions, clinical images and hands-on training
  sessions with live models to enhance your skills and understanding of
  the mammography process. Quality control, technologist responsibiliti
 es for quality assurance, positioning with breast implants as required
  by MQSA and film critique are also covered.\nSelf Assessment Module (
 SAM): No\nInstructors:Shelly Lille, BS, RT (R) (M)Wendy Marshall, RT (
 R) (M)\nSpecialty Audience:Radiology\n\nFor more information visit htt
 ps://community.radrounds.com/events/40-hour-comprehensive-mammography-
 training-course-10
DTSTART:20120425T040000Z
DTEND:20120430T035900Z
CATEGORIES:radiology
LOCATION:Meeting location pending
WEBSITE:http://www.mtmi.net/
URL:http://www.mtmi.net/
CONTACT:(262) 717-9797
ORGANIZER:Medical Technology Management Institute (MTMI)
ATTACH;FMTTYPE="image/jpeg":
ATTENDEE;ROLE=REQ-PARTICIPANT;PARTSTAT=ACCEPTED;RSVP=TRUE;CN="radRound
 s Radiology Events":https://community.radrounds.com/profile/radRoundsR
 adiologyEvents
END:VEVENT
END:VCALENDAR
