BEGIN:VCALENDAR
PRODID:NingEventWidget-v1
VERSION:2.0
METHOD:PUBLISH
BEGIN:VEVENT
UID:1791588:Event:145481
DTSTAMP:20260420T190322Z
SUMMARY:39th Annual Spring Diagnostic Ultrasound Conference
DESCRIPTION:This annual conference has four focus tracks: OB/GYN, vasc
 ular, breast, and general ultrasound.\n\nFor more information visit ht
 tps://community.radrounds.com/events/39th-annual-spring-diagnostic-ult
 rasound-conference
DTSTART:20140517T120000Z
DTEND:20140518T210000Z
CATEGORIES:cme, lecture, and, seminar
LOCATION:Pasadena Convention Center
WEBSITE:http://larad.org
URL:http://larad.org
CONTACT:626 836 5800
ORGANIZER:Los Angeles Radiological Society
ATTACH;FMTTYPE="image/jpeg":
ATTENDEE;ROLE=REQ-PARTICIPANT;PARTSTAT=ACCEPTED;RSVP=TRUE;CN="BA Filip
 ":https://community.radrounds.com/profile/BAFilip
END:VEVENT
END:VCALENDAR
