BEGIN:VCALENDAR
PRODID:NingEventWidget-v1
VERSION:2.0
METHOD:PUBLISH
BEGIN:VEVENT
UID:1791588:Event:116159
DTSTAMP:20260423T142045Z
SUMMARY:35th National Conference on Breast Cancer
DESCRIPTION:35th National Conference on Breast Cancer Friday, April 13
 , 2012 - Sunday, April 15, 2012The Westin Diplomat Hollywood, Florida 
 (FL), United StatesProvided by American College of Radiology (ACR)  CM
 E Provider: American College of Radiology (ACR) 1891 Preston White Dri
 veReston, Virginia (VA) 20191United States\nToll Free: (800) 373-2204P
 hone: (800) 373-2204\n\nConference Center:The Westin Diplomat 3555 Sou
 th Ocean DriveHollywood, Florida (FL) 33019United States\nToll Free: 1
 -888-627-9057Phone: 954-602-6000\nDescription:NCBC is the bi-annual co
 nference that ACR provides as an educational service in the field of b
 reast imaging, including breast cancer screening and treatment. Led by
  Program Co-Chairs, Carol H. Lee, MD, FACR and Debra L. Monticciolo, M
 D, FACR, attendees will review the evolving use of breast imaging tech
 nologies and attend lectures on Advanced MR techniques, Tomosynthesis,
  and Molecular Imaging.\nSelf Assessment Module (SAM): No\nInstructors
 :Carol H. Lee, MD, FACR and Debra L. Monticciolo, MD, FACR\nSpecialty 
 Audience:Radiology\n\nFor more information visit https://community.rad
 rounds.com/events/35th-national-conference-on-breast-cancer
DTSTART:20120413T040000Z
DTEND:20120416T035900Z
CATEGORIES:radiology
LOCATION:The Westin Diplomat
WEBSITE:http://www.westindiplomat.com/
URL:http://www.westindiplomat.com/
CONTACT:954-602-6000
ORGANIZER:American College of Radiology (ACR)
ATTACH;FMTTYPE="image/jpeg":
ATTENDEE;ROLE=REQ-PARTICIPANT;PARTSTAT=ACCEPTED;RSVP=TRUE;CN="radRound
 s Radiology Events":https://community.radrounds.com/profile/radRoundsR
 adiologyEvents
END:VEVENT
END:VCALENDAR
