BEGIN:VCALENDAR
PRODID:NingEventWidget-v1
VERSION:2.0
METHOD:PUBLISH
BEGIN:VEVENT
UID:1791588:Event:175420
DTSTAMP:20260423T185058Z
SUMMARY:2nd SIIM Conference on Machine Intelligence in Medical imaging
  (C-MIMI)
DESCRIPTION:The 2nd SIIM Conference on Machine Intelligence in Medica
 l imaging will bring together experts to discuss state-of-the-art meth
 ods, best practices and tools for research, regulatory and business co
 nsiderations in applying machine learning methods to medical images. I
 t will also feature NVIDIA Deep Learning Institute.\n \n\nFor more in
 formation visit https://community.radrounds.com/events/2nd-siim-confer
 ence-on-machine-intelligence-in-medical-imaging-c
DTSTART:20170926T040000Z
DTEND:20170928T035900Z
CATEGORIES:machine, intelligence, in, medical, imaging, conference
LOCATION:Johns Hopkins Medicine
WEBSITE:http://siim.org/page/2017CMIMI
URL:http://siim.org/page/2017CMIMI
CONTACT:703-723-0432
ORGANIZER:Anna Zawacki
ATTACH;FMTTYPE="image/jpeg":http://storage.ning.com/topology/rest/1.0/
 file/get/1044772111?profile=original
ATTENDEE;ROLE=REQ-PARTICIPANT;PARTSTAT=ACCEPTED;RSVP=TRUE;CN="Cathy Wo
 lniewicz":https://community.radrounds.com/profile/CathyWolniewicz
END:VEVENT
END:VCALENDAR
