BEGIN:VCALENDAR
PRODID:NingEventWidget-v1
VERSION:2.0
METHOD:PUBLISH
BEGIN:VEVENT
UID:1791588:Event:116327
DTSTAMP:20260423T184955Z
SUMMARY:2nd Annual Ottawa Resident Review
DESCRIPTION:2nd Annual Ottawa Resident Review Sunday, March 25, 2012 -
  Friday, March 30, 2012Fairmont, Chateau Laurier Hotel Ottawa Ottawa, 
 Ontario, CanadaProvided by University of Ottawa  CME Provider: Univers
 ity of Ottawa Sandra LeslieThe University of Ottawa (Ottawa Hospital -
  General Campus)501 Smyth Road, Rm M1466BOttawa, K1H 8L6Canada\nPhone:
  (613) 737-8899 x 72084Fax: (613) 737-8830\n\nConference Center:Fairmo
 nt, Chateau Laurier Hotel Ottawa 1 Rideau StreetOttawa, Ontario, K1N8S
 7Canada\nToll Free: 866-540-4410Phone: 613-562-7030Fax: 613-562-7030\n
  Description:This course will provide a six-day broad spectrum review 
 of radiological subspecialties for residents and radiologists in prepa
 ration to take the Royal College of Physicians and Surgeons of Canada 
 licensing exam in Diagnostic Radiology. The course is also useful as a
  general review for practicing Radiologists.\nSelf Assessment Module (
 SAM): No\nInstructors:Course Directors:Dr. Matthew D.F. McInnesDr. Joh
 n G. Ryan\nSpecialty Audience:Radiology\n\nFor more information visit 
 https://community.radrounds.com/events/2nd-annual-ottawa-resident-revi
 ew
DTSTART:20120325T040000Z
DTEND:20120331T035900Z
CATEGORIES:radiology
LOCATION:Fairmont, Chateau Laurier Hotel Ottawa
WEBSITE:http://www.fairmont.com/laurier
URL:http://www.fairmont.com/laurier
CONTACT:613-562-7030
ORGANIZER:University of Ottawa
ATTACH;FMTTYPE="image/jpeg":
ATTENDEE;ROLE=REQ-PARTICIPANT;PARTSTAT=ACCEPTED;RSVP=TRUE;CN="radRound
 s Radiology Events":https://community.radrounds.com/profile/radRoundsR
 adiologyEvents
END:VEVENT
END:VCALENDAR
