BEGIN:VCALENDAR
PRODID:NingEventWidget-v1
VERSION:2.0
METHOD:PUBLISH
BEGIN:VEVENT
UID:1791588:Event:117531
DTSTAMP:20260422T204348Z
SUMMARY:29th Annual Magnetic Resonance Imaging 2012: National Symposiu
 m
DESCRIPTION:29th Annual Magnetic Resonance Imaging 2012: National Symp
 osium Sunday, May 20, 2012 - Friday, May 25, 2012The Cosmopolitan of L
 as Vegas Las Vegas, Nevada (NV), United StatesProvided by Educational 
 Symposia (ESI)  CME Provider: Educational Symposia (ESI) 5620 W. Sligh
  AvenueTampa, Florida (FL) 33634-4490United States\nToll Free: (800) 3
 38-5901Phone: (813) 806-1000Fax: (800) 344-0668\n\nConference Center:T
 he Cosmopolitan of Las Vegas 3708 Las Vegas Boulevard SouthLas Vegas, 
 Nevada (NV) 89109-4312United States\nToll Free: (877) 551-7772Phone: (
 702) 698-7000Fax: (702) 698-7007\n Description:ABOUT THE MEETING\nThis
  symposium offers a practical teaching course for those who order, per
 form or interpret magnetic resonance imaging studies. The program is o
 rganized in such a way to allow registrants to attend all or just a po
 rtion of the meeting. Three focused segments provide a comprehensive y
 et practical review and update on the clinical applications of MRI. Th
 e meeting begins by focusing on the head and spine, moves into the mus
 culoskeletal system and concludes with cardiovascular and body applica
 tions.\nA special segment of the program focuses on equipment comparis
 ons and capabilities. Those registrants planning to purchase MRI equip
 ment should find this Wednesday morning session particularly valuable 
 as companies discuss their present capabilities and their plans for th
 e future.\n\nSpecialty Audience:\nRadiology\n\nFor more information vi
 sit https://community.radrounds.com/events/29th-annual-magnetic-resona
 nce-imaging-2012-national-symposium
DTSTART:20120520T040000Z
DTEND:20120526T035900Z
CATEGORIES:radiology
LOCATION:The Cosmopolitan of Las Vegas
WEBSITE:http://www.cosmopolitanlasvegas.com/
URL:http://www.cosmopolitanlasvegas.com/
CONTACT:(702) 698-7000
ORGANIZER:Educational Symposia (ESI)
ATTACH;FMTTYPE="image/jpeg":
ATTENDEE;ROLE=REQ-PARTICIPANT;PARTSTAT=ACCEPTED;RSVP=TRUE;CN="radRound
 s Radiology Events":https://community.radrounds.com/profile/radRoundsR
 adiologyEvents
END:VEVENT
END:VCALENDAR
