BEGIN:VCALENDAR
PRODID:NingEventWidget-v1
VERSION:2.0
METHOD:PUBLISH
BEGIN:VEVENT
UID:1791588:Event:116606
DTSTAMP:20260423T002910Z
SUMMARY:25th Annual Meeting European Musculoskeletal Oncology Society 
 and 13th Symposium Emsos Nurse Group
DESCRIPTION:25th Annual Meeting European Musculoskeletal Oncology Soci
 ety and 13th Symposium Emsos Nurse Group Tuesday, May 15, 2012 - Wedne
 sday, May 16, 2012Istituto Ortopedico Rizzoli Bologna, ItalyProvided b
 y Istituto Ortopedico Rizzoli  CME Provider: Istituto Ortopedico Rizzo
 li Alba BalladelliVia di Barbiano 1/10Bologna, 40136Italy\nPhone: 3905
 16366757Fax: 390516366761\n\nConference Center:Istituto Ortopedico Riz
 zoli Via di Barbiano 1/10Bologna, 40136Italy\nPhone: 390516366757\n De
 scription:Topics: Sarcomagenesis, New drugs and strategies, Pelvic tum
 ors, Chondrosarcomas, Radiotherapy, Free Papers\nTraining Day: May 14t
 h, 2012\nSelf Assessment Module (SAM): No\nInstructors:Please visit th
 e Istituto Ortopedico Rizzoli website for more information.\nSpecialty
  Audience:PathologyPediatricsRadiation TherapyRadiologySurgery\n\nFor 
 more information visit https://community.radrounds.com/events/25th-ann
 ual-meeting-european-musculoskeletal-oncology-society-and
DTSTART:20120515T040000Z
DTEND:20120517T035900Z
CATEGORIES:radiology
LOCATION:Istituto Ortopedico Rizzoli
WEBSITE:http://www.ior.it/
URL:http://www.ior.it/
CONTACT:390516366757
ORGANIZER:Istituto Ortopedico Rizzoli
ATTACH;FMTTYPE="image/jpeg":
ATTENDEE;ROLE=REQ-PARTICIPANT;PARTSTAT=ACCEPTED;RSVP=TRUE;CN="radRound
 s Radiology Events":https://community.radrounds.com/profile/radRoundsR
 adiologyEvents
END:VEVENT
END:VCALENDAR
