BEGIN:VCALENDAR
PRODID:NingEventWidget-v1
VERSION:2.0
METHOD:PUBLISH
BEGIN:VEVENT
UID:1791588:Event:185043
DTSTAMP:20260424T033826Z
SUMMARY:2019 Ultrasound Miniconference (Live Event)
DESCRIPTION:Course Topics:\n\nTBA\n\n\nFor more information visit http
 s://community.radrounds.com/events/2019-ultrasound-miniconference-live
 -event
DTSTART:20190914T120000Z
DTEND:20190914T180000Z
CATEGORIES:live, event
LOCATION:Bayshore Medical Center
WEBSITE:http://store.aheconline.com
URL:http://store.aheconline.com
CONTACT:800-239-1361
ORGANIZER;CN="Larry Carney":https://community.radrounds.com/profile/La
 rryCarney
ATTACH;FMTTYPE="image/jpeg":
ATTENDEE;ROLE=REQ-PARTICIPANT;PARTSTAT=ACCEPTED;RSVP=TRUE;CN="Larry Ca
 rney":https://community.radrounds.com/profile/LarryCarney
END:VEVENT
END:VCALENDAR
